Workbook

Sheet 1. Seguridad de las cadenas de 
A1: Evaluación Criterio 1. Seguridad de las cadenas de suministro
A2: Listado Base (Incorporando observaciones SGC) | C2: Unidad de medida | D2: Producción (explotación) | I2: Exportaciones | N2: Importaciones | S2: Consumo Aparente | AB2: Dependencia de importaciones | AI2: CAnorm | AJ2: Dinorm | AK2: Calificación
A4: No. | B4: Minerales, elementos y materias primas | D4: 2021 | E4: 2022 | F4: 2023 | G4: 2024 | H4: 2025 | I4: 2021 | J4: 2022 | K4: 2023 | L4: 2024 | M4: 2025 | N4: 2021 | O4: 2022 | P4: 2023 | Q4: 2024 | R4: 2025 | S4: 2021 | T4: 2022 | U4: 2023 | V4: 2024 | W4: 2025 | X4: Promedio | Y4: Promedio ajustado | Z4: Precio promedio 2025 | AA4: C.A USD | AB4: 2021 | AC4: 2022 | AD4: 2023 | AE4: 2024 | AF4: 2025 | AG4: Promedio | AH4: Prom. Ajustado | AI4: 0.5 | AJ4: 0.5
A5: 1 | B5: Aluminio | C5: Tonelada | D5: 49946.18 | E5: 48015.9 | F5: 2779.29 | G5: 56582.03 | H5: 31867.61 | I5: 958.22853 | J5: 1246.1191 | K5: 1898.8761 | L5: 1402.9902 | M5: 929.15801 | N5: 43578.746 | O5: 37086.133 | P5: 25080.414 | Q5: 27037.555 | R5: 41710.304 | S5: =+D5-I5+N5 -> 92566.698 | T5: =+E5-J5+O5 -> 83855.914 | U5: =+F5-K5+P5 -> 25960.828 | V5: =+G5-L5+Q5 -> 82216.595 | W5: =+H5-M5+R5 -> 72648.756 | X5: =+SUM(S5:W5)/COUNT(S5:W5) -> 71449.758 | Y5: =+IF(X5>0,X5,X5*-1) -> 71449.758 | Z5: 2629 | AA5: =+Y5*Z5 -> 1.8784141e+08 | AB5: =N5/S5 -> 0.47078212 | AC5: =O5/T5 -> 0.4422602 | AD5: =P5/U5 -> 0.96608683 | AE5: =Q5/V5 -> 0.32885764 | AF5: =R5/W5 -> 0.57413652 | AG5: =+SUM(AB5:AF5)/COUNT(AB5:AF5) -> 0.55642466 | AH5: =+IF(AG5>0,AG5,AG5*-1) -> 0.55642466 | AI5: =IF(AA5=0,$D$56,IF(AA5<=$C$45,$D$51,IF(AA5<=$C$46,$D$52,IF(AA5<=$C$47,$D$53,IF(AA5<=$C$48,$D$54,$D$55))))) -> 100 | AJ5: =IF(AH5=0,$J$56,IF(AH5<=$I$45,$J$51,IF(AH5<=$I$46,$J$52,IF(AH5<=$I$47,$J$53,IF(AH5<=$I$48,$J$54,$J$55))))) -> 60 | AK5: =+(AI5*$AI$4)+(AJ5*$AJ$4) -> 80
A6: 2 | B6: Arenas silíceas | C6: Tonelada | D6: 916466.77 | E6: 480251.79 | F6: 1143191.5 | G6: 1085650.1 | H6: 746841.43 | I6: 579.14703 | J6: 594.42229 | K6: 1073.2641 | L6: 7844.3771 | M6: 12968.591 | N6: 9280.226 | O6: 2182.746 | P6: 1822.5436 | Q6: 2349.1279 | R6: 5315.2861 | S6: =+D6-I6+N6 -> 925167.85 | T6: =+E6-J6+O6 -> 481840.11 | U6: =+F6-K6+P6 -> 1143940.8 | V6: =+G6-L6+Q6 -> 1080154.8 | W6: =+H6-M6+R6 -> 739188.13 | X6: =+SUM(S6:W6)/COUNT(S6:W6) -> 874058.33 | Y6: =+IF(X6>0,X6,X6*-1) -> 874058.33 | Z6: 72 | AA6: =+Y6*Z6 -> 62932200 | AB6: =N6/S6 -> 0.010030857 | AC6: =O6/T6 -> 0.0045300213 | AD6: =P6/U6 -> 0.001593215 | AE6: =Q6/V6 -> 0.0021748067 | AF6: =R6/W6 -> 0.0071907082 | AG6: =+SUM(AB6:AF6)/COUNT(AB6:AF6) -> 0.0051039216 | AH6: =+IF(AG6>0,AG6,AG6*-1) -> 0.0051039216 | AI6: =IF(AA6=0,$D$56,IF(AA6<=$C$45,$D$51,IF(AA6<=$C$46,$D$52,IF(AA6<=$C$47,$D$53,IF(AA6<=$C$48,$D$54,$D$55))))) -> 80 | AJ6: =IF(AH6=0,$J$56,IF(AH6<=$I$45,$J$51,IF(AH6<=$I$46,$J$52,IF(AH6<=$I$47,$J$53,IF(AH6<=$I$48,$J$54,$J$55))))) -> 100 | AK6: =+(AI6*$AI$4)+(AJ6*$AJ$4) -> 90
A7: 3 | B7: Azufre | C7: Tonelada | Z7: 120 | AB7: - | AC7: - | AD7: - | AE7: - | AF7: - | AG7: - | AI7: =IF(AA7=0,$D$56,IF(AA7<=$C$45,$D$51,IF(AA7<=$C$46,$D$52,IF(AA7<=$C$47,$D$53,IF(AA7<=$C$48,$D$54,$D$55))))) -> 0 | AJ7: =IF(AH7=0,$J$56,IF(AH7<=$I$45,$J$51,IF(AH7<=$I$46,$J$52,IF(AH7<=$I$47,$J$53,IF(AH7<=$I$48,$J$54,$J$55))))) -> 0 | AK7: =+(AI7*$AI$4)+(AJ7*$AJ$4) -> 0
A8: 4 | B8: Baritina | C8: Tonelada | D8: 1163.87 | E8: 1033.8 | F8: 1375.69 | G8: 144392.15 | I8: 475.825 | J8: 505.214 | K8: 31.975 | L8: 101.35981 | M8: 139.9556 | N8: 12388.156 | O8: 58325.583 | P8: 20202.918 | Q8: 34067.795 | R8: 33899.874 | S8: =+D8-I8+N8 -> 13076.201 | T8: =+E8-J8+O8 -> 58854.169 | U8: =+F8-K8+P8 -> 21546.633 | V8: =+G8-L8+Q8 -> 178358.59 | W8: =+H8-M8+R8 -> 33759.918 | X8: =+SUM(S8:W8)/COUNT(S8:W8) -> 61119.101 | Y8: =+IF(X8>0,X8,X8*-1) -> 61119.101 | Z8: 235 | AA8: =+Y8*Z8 -> 14362989 | AB8: =N8/S8 -> 0.94738189 | AC8: =O8/T8 -> 0.99101872 | AD8: =P8/U8 -> 0.93763689 | AE8: =Q8/V8 -> 0.19100732 | AF8: =R8/W8 -> 1.0041456 | AG8: =+SUM(AB8:AF8)/COUNT(AB8:AF8) -> 0.81423809 | AH8: =+IF(AG8>0,AG8,AG8*-1) -> 0.81423809 | AI8: =IF(AA8=0,$D$56,IF(AA8<=$C$45,$D$51,IF(AA8<=$C$46,$D$52,IF(AA8<=$C$47,$D$53,IF(AA8<=$C$48,$D$54,$D$55))))) -> 60 | AJ8: =IF(AH8=0,$J$56,IF(AH8<=$I$45,$J$51,IF(AH8<=$I$46,$J$52,IF(AH8<=$I$47,$J$53,IF(AH8<=$I$48,$J$54,$J$55))))) -> 40 | AK8: =+(AI8*$AI$4)+(AJ8*$AJ$4) -> 50
A9: 5 | B9: Calizas y mármoles | C9: Tonelada | D9: 22800112 | E9: 24534007 | F9: 21461355 | G9: 16049002 | H9: 18770725 | J9: 98.2318 | K9: 37.56454 | L9: 315.268 | S9: =+D9-I9+N9 -> 22800112 | T9: =+E9-J9+O9 -> 24533909 | U9: =+F9-K9+P9 -> 21461317 | V9: =+G9-L9+Q9 -> 16048686 | W9: =+H9-M9+R9 -> 18770725 | X9: =+SUM(S9:W9)/COUNT(S9:W9) -> 20722950 | Y9: =+IF(X9>0,X9,X9*-1) -> 20722950 | Z9: 38 | AA9: =+Y9*Z9 -> 7.8747209e+08 | AB9: =N9/S9 -> 0 | AC9: =O9/T9 -> 0 | AD9: =P9/U9 -> 0 | AE9: =Q9/V9 -> 0 | AF9: =R9/W9 -> 0 | AG9: =+SUM(AB9:AF9)/COUNT(AB9:AF9) -> 0 | AH9: =+IF(AG9>0,AG9,AG9*-1) -> 0 | AI9: =IF(AA9=0,$D$56,IF(AA9<=$C$45,$D$51,IF(AA9<=$C$46,$D$52,IF(AA9<=$C$47,$D$53,IF(AA9<=$C$48,$D$54,$D$55))))) -> 100 | AJ9: =IF(AH9=0,$J$56,IF(AH9<=$I$45,$J$51,IF(AH9<=$I$46,$J$52,IF(AH9<=$I$47,$J$53,IF(AH9<=$I$48,$J$54,$J$55))))) -> 0 | AK9: =+(AI9*$AI$4)+(AJ9*$AJ$4) -> 50
A10: 6 | B10: Carbón | C10: Tonelada | D10: 64317613 | E10: 67811189 | F10: 69570797 | G10: 60896266 | H10: 50122962 | I10: 55600379 | J10: 56561819 | K10: 56741998 | L10: 60663728 | M10: 47785428 | N10: 571.78908 | O10: 4228.8615 | P10: 52701.392 | Q10: 50408.257 | R10: 10279.367 | S10: =+D10-I10+N10 -> 8717805.9 | T10: =+E10-J10+O10 -> 11253599 | U10: =+F10-K10+P10 -> 12881500 | V10: =+G10-L10+Q10 -> 282945.88 | W10: =+H10-M10+R10 -> 2347813.2 | X10: =+SUM(S10:W10)/COUNT(S10:W10) -> 7096732.7 | Y10: =+IF(X10>0,X10,X10*-1) -> 7096732.7 | Z10: 113 | AA10: =+Y10*Z10 -> 8.0193079e+08 | AB10: =N10/S10 -> 6.5588645e-05 | AC10: =O10/T10 -> 0.0003757786 | AD10: =P10/U10 -> 0.0040912465 | AE10: =Q10/V10 -> 0.17815512 | AF10: =R10/W10 -> 0.004378273 | AG10: =+SUM(AB10:AF10)/COUNT(AB10:AF10) -> 0.037413201 | AH10: =+IF(AG10>0,AG10,AG10*-1) -> 0.037413201 | AI10: =IF(AA10=0,$D$56,IF(AA10<=$C$45,$D$51,IF(AA10<=$C$46,$D$52,IF(AA10<=$C$47,$D$53,IF(AA10<=$C$48,$D$54,$D$55))))) -> 100 | AJ10: =IF(AH10=0,$J$56,IF(AH10<=$I$45,$J$51,IF(AH10<=$I$46,$J$52,IF(AH10<=$I$47,$J$53,IF(AH10<=$I$48,$J$54,$J$55))))) -> 80 | AK10: =+(AI10*$AI$4)+(AJ10*$AJ$4) -> 90
A11: 7 | B11: Cobre | C11: Tonelada | D11: 9035.133 | E11: 7615.3849 | F11: 9256.5101 | G11: 7945.802 | H11: 5654.0874 | I11: 10196.17 | J11: 5838.2352 | K11: 5643.6841 | L11: 8421.1974 | M11: 9355.0089 | N11: 18.8046 | O11: 11.62616 | P11: 15.04418 | Q11: 33.0027 | R11: 101.00487 | S11: =+D11-I11+N11 -> -1142.2326 | T11: =+E11-J11+O11 -> 1788.7758 | U11: =+F11-K11+P11 -> 3627.8702 | V11: =+G11-L11+Q11 -> -442.39272 | W11: =+H11-M11+R11 -> -3599.9166 | X11: =+SUM(S11:W11)/COUNT(S11:W11) -> 46.420826 | Y11: =+IF(X11>0,X11,X11*-1) -> 46.420826 | Z11: 9938 | AA11: =+Y11*Z11 -> 461330.17 | AB11: =N11/S11 -> -0.016463022 | AC11: =O11/T11 -> 0.0064995065 | AD11: =P11/U11 -> 0.0041468353 | AE11: =Q11/V11 -> -0.07460046 | AF11: =R11/W11 -> -0.028057559 | AG11: =+SUM(AB11:AF11)/COUNT(AB11:AF11) -> -0.02169494 | AH11: =+IF(AG11>0,AG11,AG11*-1) -> 0.02169494 | AI11: =IF(AA11=0,$D$56,IF(AA11<=$C$45,$D$51,IF(AA11<=$C$46,$D$52,IF(AA11<=$C$47,$D$53,IF(AA11<=$C$48,$D$54,$D$55))))) -> 20 | AJ11: =IF(AH11=0,$J$56,IF(AH11<=$I$45,$J$51,IF(AH11<=$I$46,$J$52,IF(AH11<=$I$47,$J$53,IF(AH11<=$I$48,$J$54,$J$55))))) -> 80 | AK11: =+(AI11*$AI$4)+(AJ11*$AJ$4) -> 50
A12: 8 | B12: Cromo | C12: Tonelada | E12: 35.3718 | I12: 9.825 | J12: 44.6 | K12: 2.25 | L12: 2 | M12: 19.5 | N12: 773.65257 | O12: 782.96347 | P12: 655.20737 | Q12: 579.806 | R12: 517.9784 | S12: =+D12-I12+N12 -> 763.82757 | T12: =+E12-J12+O12 -> 773.73527 | U12: =+F12-K12+P12 -> 652.95737 | V12: =+G12-L12+Q12 -> 577.806 | W12: =+H12-M12+R12 -> 498.4784 | X12: =+SUM(S12:W12)/COUNT(S12:W12) -> 653.36092 | Y12: =+IF(X12>0,X12,X12*-1) -> 653.36092 | Z12: 280 | AA12: =+Y12*Z12 -> 182941.06 | AB12: =N12/S12 -> 1.0128629 | AC12: =O12/T12 -> 1.0119268 | AD12: =P12/U12 -> 1.0034459 | AE12: =Q12/V12 -> 1.0034614 | AF12: =R12/W12 -> 1.039119 | AG12: =+SUM(AB12:AF12)/COUNT(AB12:AF12) -> 1.0141632 | AH12: =+IF(AG12>0,AG12,AG12*-1) -> 1.0141632 | AI12: =IF(AA12=0,$D$56,IF(AA12<=$C$45,$D$51,IF(AA12<=$C$46,$D$52,IF(AA12<=$C$47,$D$53,IF(AA12<=$C$48,$D$54,$D$55))))) -> 20 | AJ12: =IF(AH12=0,$J$56,IF(AH12<=$I$45,$J$51,IF(AH12<=$I$46,$J$52,IF(AH12<=$I$47,$J$53,IF(AH12<=$I$48,$J$54,$J$55))))) -> 20 | AK12: =+(AI12*$AI$4)+(AJ12*$AJ$4) -> 20
A13: 9 | B13: Elementos de Tierras Raras (ETR) | C13: Tonelada | I13: 6.24 | J13: 1.995 | K13: 0.03922 | L13: 0.06519 | M13: 0.05924 | N13: 0.0409 | O13: 0.02729 | P13: 0.03922 | Q13: 0.06519 | R13: 0.05924 | S13: -6 | T13: -2 | U13: 0.03922 | V13: 0.06519 | W13: 0.05924 | X13: =+SUM(S13:W13)/COUNT(S13:W13) -> -1.56727 | Y13: =+IF(X13>0,X13,X13*-1) -> 1.56727 | Z13: 60000 | AA13: =+Y13*Z13 -> 94036.2 | AB13: =N13/S13 -> -0.0068166667 | AC13: =O13/T13 -> -0.013645 | AD13: - | AE13: - | AF13: =R13/W13 -> 1 | AG13: =+SUM(AB13:AF13)/COUNT(AB13:AF13) -> 0.32651278 | AH13: =+IF(AG13>0,AG13,AG13*-1) -> 0.32651278 | AI13: =IF(AA13=0,$D$56,IF(AA13<=$C$45,$D$51,IF(AA13<=$C$46,$D$52,IF(AA13<=$C$47,$D$53,IF(AA13<=$C$48,$D$54,$D$55))))) -> 20 | AJ13: =IF(AH13=0,$J$56,IF(AH13<=$I$45,$J$51,IF(AH13<=$I$46,$J$52,IF(AH13<=$I$47,$J$53,IF(AH13<=$I$48,$J$54,$J$55))))) -> 60 | AK13: =+(AI13*$AI$4)+(AJ13*$AJ$4) -> 40
A14: 10 | B14: Esmeralda | C14: Tonelada | D14: 0.3029356 | E14: 0.2771979 | F14: 0.2789045 | G14: 0.2792397 | H14: 0.2923198 | I14: 0.2587 | J14: 0.25665 | K14: 0.1746 | L14: 0.21173 | M14: 0.17064 | N14: 0.00126 | O14: 0.00075 | P14: 0.00036 | Q14: 0.0005 | R14: 7e-05 | S14: =+D14-I14+N14 -> 0.0454956 | T14: =+E14-J14+O14 -> 0.0212979 | U14: =+F14-K14+P14 -> 0.1046645 | V14: =+G14-L14+Q14 -> 0.0680097 | W14: =+H14-M14+R14 -> 0.1217498 | X14: =+SUM(S14:W14)/COUNT(S14:W14) -> 0.0722435 | Y14: =+IF(X14>0,X14,X14*-1) -> 0.0722435 | Z14: 816485656 | AA14: =+Y14*Z14 -> 58985781 | AB14: =N14/S14 -> 0.027694986 | AC14: =O14/T14 -> 0.035214739 | AD14: =P14/U14 -> 0.0034395616 | AE14: =Q14/V14 -> 0.0073518925 | AF14: =R14/W14 -> 0.00057494961 | AG14: =+SUM(AB14:AF14)/COUNT(AB14:AF14) -> 0.014855226 | AH14: =+IF(AG14>0,AG14,AG14*-1) -> 0.014855226 | AI14: =IF(AA14=0,$D$56,IF(AA14<=$C$45,$D$51,IF(AA14<=$C$46,$D$52,IF(AA14<=$C$47,$D$53,IF(AA14<=$C$48,$D$54,$D$55))))) -> 80 | AJ14: =IF(AH14=0,$J$56,IF(AH14<=$I$45,$J$51,IF(AH14<=$I$46,$J$52,IF(AH14<=$I$47,$J$53,IF(AH14<=$I$48,$J$54,$J$55))))) -> 100 | AK14: =+(AI14*$AI$4)+(AJ14*$AJ$4) -> 90
A15: 11 | B15: Estaño | C15: Tonelada | G15: 209.33227 | H15: 67.10954 | I15: 59.75714 | J15: 216.51365 | K15: 118.50385 | L15: 248.7795 | M15: 110.36527 | N15: 184.91724 | O15: 161.69439 | P15: 182.36084 | Q15: 216.35176 | R15: 184.98887 | S15: =+D15-I15+N15 -> 125.1601 | T15: =+E15-J15+O15 -> -54.81926 | U15: =+F15-K15+P15 -> 63.85699 | V15: =+G15-L15+Q15 -> 176.90453 | W15: =+H15-M15+R15 -> 141.73314 | X15: =+SUM(S15:W15)/COUNT(S15:W15) -> 90.5671 | Y15: =+IF(X15>0,X15,X15*-1) -> 90.5671 | Z15: 32500 | AA15: =+Y15*Z15 -> 2943430.8 | AB15: =N15/S15 -> 1.4774456 | AC15: =O15/T15 -> -2.9495909 | AD15: =P15/U15 -> 2.8557694 | AE15: =Q15/V15 -> 1.222986 | AF15: =R15/W15 -> 1.3051914 | AG15: =+SUM(AB15:AF15)/COUNT(AB15:AF15) -> 0.7823603 | AH15: =+IF(AG15>0,AG15,AG15*-1) -> 0.7823603 | AI15: =IF(AA15=0,$D$56,IF(AA15<=$C$45,$D$51,IF(AA15<=$C$46,$D$52,IF(AA15<=$C$47,$D$53,IF(AA15<=$C$48,$D$54,$D$55))))) -> 40 | AJ15: =IF(AH15=0,$J$56,IF(AH15<=$I$45,$J$51,IF(AH15<=$I$46,$J$52,IF(AH15<=$I$47,$J$53,IF(AH15<=$I$48,$J$54,$J$55))))) -> 40 | AK15: =+(AI15*$AI$4)+(AJ15*$AJ$4) -> 40
A16: 12 | B16: Feldespato | C16: Tonelada | D16: 99755.47 | E16: 164782.98 | F16: 73674.91 | G16: 147326.24 | H16: 218069.59 | J16: 13.678 | K16: 15 | L16: 1022.2 | M16: 2815.6 | N16: 4995.474 | O16: 5434.75 | P16: 4008.205 | Q16: 3735.3456 | R16: 4759.928 | S16: =+D16-I16+N16 -> 104750.94 | T16: =+E16-J16+O16 -> 170204.05 | U16: =+F16-K16+P16 -> 77668.115 | V16: =+G16-L16+Q16 -> 150039.39 | W16: =+H16-M16+R16 -> 220013.92 | X16: =+SUM(S16:W16)/COUNT(S16:W16) -> 144535.28 | Y16: =+IF(X16>0,X16,X16*-1) -> 144535.28 | Z16: 120 | AA16: =+Y16*Z16 -> 17344234 | AB16: =N16/S16 -> 0.047689059 | AC16: =O16/T16 -> 0.031930791 | AD16: =P16/U16 -> 0.051606827 | AE16: =Q16/V16 -> 0.024895767 | AF16: =R16/W16 -> 0.021634668 | AG16: =+SUM(AB16:AF16)/COUNT(AB16:AF16) -> 0.035551423 | AH16: =+IF(AG16>0,AG16,AG16*-1) -> 0.035551423 | AI16: =IF(AA16=0,$D$56,IF(AA16<=$C$45,$D$51,IF(AA16<=$C$46,$D$52,IF(AA16<=$C$47,$D$53,IF(AA16<=$C$48,$D$54,$D$55))))) -> 60 | AJ16: =IF(AH16=0,$J$56,IF(AH16<=$I$45,$J$51,IF(AH16<=$I$46,$J$52,IF(AH16<=$I$47,$J$53,IF(AH16<=$I$48,$J$54,$J$55))))) -> 80 | AK16: =+(AI16*$AI$4)+(AJ16*$AJ$4) -> 70
A17: 13 | B17: Fluorita | C17: Tonelada | N17: 1468.49 | O17: 2752.64 | P17: 1750.564 | Q17: 1590.233 | R17: 1465.794 | S17: =+D17-I17+N17 -> 1468.49 | T17: =+E17-J17+O17 -> 2752.64 | U17: =+F17-K17+P17 -> 1750.564 | V17: =+G17-L17+Q17 -> 1590.233 | W17: =+H17-M17+R17 -> 1465.794 | X17: =+SUM(S17:W17)/COUNT(S17:W17) -> 1805.5442 | Y17: =+IF(X17>0,X17,X17*-1) -> 1805.5442 | Z17: 466 | AA17: =+Y17*Z17 -> 841383.6 | AB17: =N17/S17 -> 1 | AC17: =O17/T17 -> 1 | AD17: =P17/U17 -> 1 | AE17: =Q17/V17 -> 1 | AF17: =R17/W17 -> 1 | AG17: =+SUM(AB17:AF17)/COUNT(AB17:AF17) -> 1 | AH17: =+IF(AG17>0,AG17,AG17*-1) -> 1 | AI17: =IF(AA17=0,$D$56,IF(AA17<=$C$45,$D$51,IF(AA17<=$C$46,$D$52,IF(AA17<=$C$47,$D$53,IF(AA17<=$C$48,$D$54,$D$55))))) -> 40 | AJ17: =IF(AH17=0,$J$56,IF(AH17<=$I$45,$J$51,IF(AH17<=$I$46,$J$52,IF(AH17<=$I$47,$J$53,IF(AH17<=$I$48,$J$54,$J$55))))) -> 20 | AK17: =+(AI17*$AI$4)+(AJ17*$AJ$4) -> 30
A18: 14 | B18: Grafito | C18: Tonelada | D18: 55 | E18: 85 | F18: 1277 | G18: 417 | H18: 88 | I18: 41.301 | J18: 27.7 | K18: 112.92141 | L18: 50.0425 | M18: 95.516 | N18: 962.34206 | O18: 577.51682 | P18: 673.16982 | Q18: 632.70642 | R18: 504.96444 | S18: =+D18-I18+N18 -> 976.04106 | T18: =+E18-J18+O18 -> 634.81682 | U18: =+F18-K18+P18 -> 1837.2484 | V18: =+G18-L18+Q18 -> 999.66392 | W18: =+H18-M18+R18 -> 497.44844 | X18: =+SUM(S18:W18)/COUNT(S18:W18) -> 989.04373 | Y18: =+IF(X18>0,X18,X18*-1) -> 989.04373 | Z18: 700 | AA18: =+Y18*Z18 -> 692330.61 | AB18: =N18/S18 -> 0.98596473 | AC18: =O18/T18 -> 0.90973774 | AD18: =P18/U18 -> 0.36640109 | AE18: =Q18/V18 -> 0.63291913 | AF18: =R18/W18 -> 1.0151091 | AG18: =+SUM(AB18:AF18)/COUNT(AB18:AF18) -> 0.78202636 | AH18: =+IF(AG18>0,AG18,AG18*-1) -> 0.78202636 | AI18: =IF(AA18=0,$D$56,IF(AA18<=$C$45,$D$51,IF(AA18<=$C$46,$D$52,IF(AA18<=$C$47,$D$53,IF(AA18<=$C$48,$D$54,$D$55))))) -> 20 | AJ18: =IF(AH18=0,$J$56,IF(AH18<=$I$45,$J$51,IF(AH18<=$I$46,$J$52,IF(AH18<=$I$47,$J$53,IF(AH18<=$I$48,$J$54,$J$55))))) -> 40 | AK18: =+(AI18*$AI$4)+(AJ18*$AJ$4) -> 30
A19: 15 | B19: Hierro | C19: Tonelada | D19: 750381.47 | E19: 497646.75 | F19: 652756.81 | G19: 516820.38 | H19: 717698.33 | I19: 6055.7252 | J19: 5186.1427 | K19: 4169.216 | L19: 4462.1938 | M19: 3553.0645 | N19: 2611.5825 | O19: 2362.775 | P19: 1946.3513 | Q19: 3004.3261 | R19: 1602.6503 | S19: =+D19-I19+N19 -> 746937.33 | T19: =+E19-J19+O19 -> 494823.38 | U19: =+F19-K19+P19 -> 650533.95 | V19: =+G19-L19+Q19 -> 515362.51 | W19: =+H19-M19+R19 -> 715747.92 | X19: =+SUM(S19:W19)/COUNT(S19:W19) -> 624681.02 | Y19: =+IF(X19>0,X19,X19*-1) -> 624681.02 | Z19: 100 | AA19: =+Y19*Z19 -> 62468102 | AB19: =N19/S19 -> 0.0034963878 | AC19: =O19/T19 -> 0.0047749866 | AD19: =P19/U19 -> 0.002991929 | AE19: =Q19/V19 -> 0.0058295394 | AF19: =R19/W19 -> 0.0022391267 | AG19: =+SUM(AB19:AF19)/COUNT(AB19:AF19) -> 0.0038663939 | AH19: =+IF(AG19>0,AG19,AG19*-1) -> 0.0038663939 | AI19: =IF(AA19=0,$D$56,IF(AA19<=$C$45,$D$51,IF(AA19<=$C$46,$D$52,IF(AA19<=$C$47,$D$53,IF(AA19<=$C$48,$D$54,$D$55))))) -> 80 | AJ19: =IF(AH19=0,$J$56,IF(AH19<=$I$45,$J$51,IF(AH19<=$I$46,$J$52,IF(AH19<=$I$47,$J$53,IF(AH19<=$I$48,$J$54,$J$55))))) -> 100 | AK19: =+(AI19*$AI$4)+(AJ19*$AJ$4) -> 90
A20: 16 | B20: Litio | C20: Tonelada | N20: 6.14125 | O20: 9.086 | P20: 9.32538 | Q20: 3.9314 | R20: 10.95913 | S20: =+D20-I20+N20 -> 6.14125 | T20: =+E20-J20+O20 -> 9.086 | U20: =+F20-K20+P20 -> 9.32538 | V20: =+G20-L20+Q20 -> 3.9314 | W20: =+H20-M20+R20 -> 10.95913 | X20: =+SUM(S20:W20)/COUNT(S20:W20) -> 7.888632 | Y20: =+IF(X20>0,X20,X20*-1) -> 7.888632 | Z20: 9145 | AA20: =+Y20*Z20 -> 72141.54 | AB20: =N20/S20 -> 1 | AC20: =O20/T20 -> 1 | AD20: =P20/U20 -> 1 | AE20: =Q20/V20 -> 1 | AF20: =R20/W20 -> 1 | AG20: =+SUM(AB20:AF20)/COUNT(AB20:AF20) -> 1 | AH20: =+IF(AG20>0,AG20,AG20*-1) -> 1 | AI20: =IF(AA20=0,$D$56,IF(AA20<=$C$45,$D$51,IF(AA20<=$C$46,$D$52,IF(AA20<=$C$47,$D$53,IF(AA20<=$C$48,$D$54,$D$55))))) -> 20 | AJ20: =IF(AH20=0,$J$56,IF(AH20<=$I$45,$J$51,IF(AH20<=$I$46,$J$52,IF(AH20<=$I$47,$J$53,IF(AH20<=$I$48,$J$54,$J$55))))) -> 20 | AK20: =+(AI20*$AI$4)+(AJ20*$AJ$4) -> 20
A21: 17 | B21: Magnesio | C21: Tonelada | D21: 3115.8 | E21: 2694.2 | F21: 2539.55 | G21: 1398.1 | H21: 260.48 | I21: 752.6573 | J21: 535.9367 | K21: 1490.9587 | L21: 141.75007 | M21: 200.06963 | N21: 34634.347 | O21: 55210.861 | P21: 47151.517 | Q21: 50872.82 | R21: 57940.264 | S21: =+D21-I21+N21 -> 36997.489 | T21: =+E21-J21+O21 -> 57369.124 | U21: =+F21-K21+P21 -> 48200.108 | V21: =+G21-L21+Q21 -> 52129.17 | W21: =+H21-M21+R21 -> 58000.675 | X21: =+SUM(S21:W21)/COUNT(S21:W21) -> 50539.313 | Y21: =+IF(X21>0,X21,X21*-1) -> 50539.313 | Z21: 2700 | AA21: =+Y21*Z21 -> 1.3645615e+08 | AB21: =N21/S21 -> 0.93612694 | AC21: =O21/T21 -> 0.96237936 | AD21: =P21/U21 -> 0.97824504 | AE21: =Q21/V21 -> 0.97589929 | AF21: =R21/W21 -> 0.99895845 | AG21: =+SUM(AB21:AF21)/COUNT(AB21:AF21) -> 0.97032182 | AH21: =+IF(AG21>0,AG21,AG21*-1) -> 0.97032182 | AI21: =IF(AA21=0,$D$56,IF(AA21<=$C$45,$D$51,IF(AA21<=$C$46,$D$52,IF(AA21<=$C$47,$D$53,IF(AA21<=$C$48,$D$54,$D$55))))) -> 80 | AJ21: =IF(AH21=0,$J$56,IF(AH21<=$I$45,$J$51,IF(AH21<=$I$46,$J$52,IF(AH21<=$I$47,$J$53,IF(AH21<=$I$48,$J$54,$J$55))))) -> 40 | AK21: =+(AI21*$AI$4)+(AJ21*$AJ$4) -> 60
A22: 18 | B22: Manganeso | C22: Tonelada | D22: 358.63 | E22: 407.62 | F22: 369078.9 | G22: 1112.91 | H22: 403.01 | N22: 28648.155 | O22: 14077.25 | P22: 14835.05 | Q22: 18200.974 | R22: 11046.559 | S22: =+D22-I22+N22 -> 29006.785 | T22: =+E22-J22+O22 -> 14484.87 | U22: =+F22-K22+P22 -> 383913.95 | V22: =+G22-L22+Q22 -> 19313.884 | W22: =+H22-M22+R22 -> 11449.569 | X22: =+SUM(S22:W22)/COUNT(S22:W22) -> 91633.812 | Y22: =+IF(X22>0,X22,X22*-1) -> 91633.812 | Z22: 190 | AA22: =+Y22*Z22 -> 17410424 | AB22: =N22/S22 -> 0.98763634 | AC22: =O22/T22 -> 0.97185891 | AD22: =P22/U22 -> 0.038641602 | AE22: =Q22/V22 -> 0.94237772 | AF22: =R22/W22 -> 0.9648013 | AG22: =+SUM(AB22:AF22)/COUNT(AB22:AF22) -> 0.78106317 | AH22: =+IF(AG22>0,AG22,AG22*-1) -> 0.78106317 | AI22: =IF(AA22=0,$D$56,IF(AA22<=$C$45,$D$51,IF(AA22<=$C$46,$D$52,IF(AA22<=$C$47,$D$53,IF(AA22<=$C$48,$D$54,$D$55))))) -> 60 | AJ22: =IF(AH22=0,$J$56,IF(AH22<=$I$45,$J$51,IF(AH22<=$I$46,$J$52,IF(AH22<=$I$47,$J$53,IF(AH22<=$I$48,$J$54,$J$55))))) -> 40 | AK22: =+(AI22*$AI$4)+(AJ22*$AJ$4) -> 50
A23: 19 | B23: Materiales de Construcción | C23: Tonelada | D23: 58002325 | E23: 55793980 | F23: 55581977 | G23: 43119876 | H23: 40664172 | I23: 188750.76 | J23: 714785.61 | K23: 1224453.3 | L23: 888658.7 | M23: 222716.94 | N23: 3960.4482 | O23: 6146.9254 | P23: 2866.7569 | Q23: 2385.1844 | R23: 2454.0737 | S23: =+D23-I23+N23 -> 57817534 | T23: =+E23-J23+O23 -> 55085342 | U23: =+F23-K23+P23 -> 54360390 | V23: =+G23-L23+Q23 -> 42233603 | W23: =+H23-M23+R23 -> 40443909 | X23: =+SUM(S23:W23)/COUNT(S23:W23) -> 49988156 | Y23: =+IF(X23>0,X23,X23*-1) -> 49988156 | Z23: 16 | AA23: =+Y23*Z23 -> 7.9981049e+08 | AB23: =N23/S23 -> 6.8499085e-05 | AC23: =O23/T23 -> 0.00011158913 | AD23: =P23/U23 -> 5.2736136e-05 | AE23: =Q23/V23 -> 5.6475987e-05 | AF23: =R23/W23 -> 6.0678449e-05 | AG23: =+SUM(AB23:AF23)/COUNT(AB23:AF23) -> 6.9995758e-05 | AH23: =+IF(AG23>0,AG23,AG23*-1) -> 6.9995758e-05 | AI23: =IF(AA23=0,$D$56,IF(AA23<=$C$45,$D$51,IF(AA23<=$C$46,$D$52,IF(AA23<=$C$47,$D$53,IF(AA23<=$C$48,$D$54,$D$55))))) -> 100 | AJ23: =IF(AH23=0,$J$56,IF(AH23<=$I$45,$J$51,IF(AH23<=$I$46,$J$52,IF(AH23<=$I$47,$J$53,IF(AH23<=$I$48,$J$54,$J$55))))) -> 100 | AK23: =+(AI23*$AI$4)+(AJ23*$AJ$4) -> 100
A24: 20 | B24: Metales del Grupo del Platino (MGP) | C24: Tonelada | D24: 0.618175 | E24: 0.5921979 | F24: 0.8926875 | G24: 0.8710269 | H24: 1.0762231 | I24: 0.72583 | J24: 0.8629 | K24: 0.98263 | L24: 1.07323 | M24: 1.31904 | N24: 0.19005 | O24: 0.01138 | P24: 0.00466 | Q24: 0.00231 | R24: 0.00252 | S24: =+D24-I24+N24 -> 0.082395 | T24: =+E24-J24+O24 -> -0.2593221 | U24: =+F24-K24+P24 -> -0.0852825 | V24: =+G24-L24+Q24 -> -0.1998931 | W24: =+H24-M24+R24 -> -0.2402969 | X24: =+SUM(S24:W24)/COUNT(S24:W24) -> -0.14047992 | Y24: =+IF(X24>0,X24,X24*-1) -> 0.14047992 | Z24: 1274 | AA24: =+Y24*Z24 -> 178.97142 | AB24: =N24/S24 -> 2.306572 | AC24: =O24/T24 -> -0.043883649 | AD24: =P24/U24 -> -0.054641925 | AE24: =Q24/V24 -> -0.011556177 | AF24: =R24/W24 -> -0.010487027 | AG24: =+SUM(AB24:AF24)/COUNT(AB24:AF24) -> 0.43720064 | AH24: =+IF(AG24>0,AG24,AG24*-1) -> 0.43720064 | AI24: =IF(AA24=0,$D$56,IF(AA24<=$C$45,$D$51,IF(AA24<=$C$46,$D$52,IF(AA24<=$C$47,$D$53,IF(AA24<=$C$48,$D$54,$D$55))))) -> 20 | AJ24: =IF(AH24=0,$J$56,IF(AH24<=$I$45,$J$51,IF(AH24<=$I$46,$J$52,IF(AH24<=$I$47,$J$53,IF(AH24<=$I$48,$J$54,$J$55))))) -> 60 | AK24: =+(AI24*$AI$4)+(AJ24*$AJ$4) -> 40
A25: 21 | B25: Molibdeno | C25: Tonelada | S25: =+D25-I25+N25 -> 0 | T25: =+E25-J25+O25 -> 0 | U25: =+F25-K25+P25 -> 0 | V25: =+G25-L25+Q25 -> 0 | W25: =+H25-M25+R25 -> 0 | X25: =+SUM(S25:W25)/COUNT(S25:W25) -> 0 | Y25: =+IF(X25>0,X25,X25*-1) -> 0 | Z25: 48000 | AB25: - | AC25: - | AD25: - | AE25: - | AF25: - | AG25: - | AI25: =IF(AA25=0,$D$56,IF(AA25<=$C$45,$D$51,IF(AA25<=$C$46,$D$52,IF(AA25<=$C$47,$D$53,IF(AA25<=$C$48,$D$54,$D$55))))) -> 0 | AJ25: =IF(AH25=0,$J$56,IF(AH25<=$I$45,$J$51,IF(AH25<=$I$46,$J$52,IF(AH25<=$I$47,$J$53,IF(AH25<=$I$48,$J$54,$J$55))))) -> 0 | AK25: =+(AI25*$AI$4)+(AJ25*$AJ$4) -> 0
A26: 22 | B26: Niobio-Tantalio | C26: Tonelada | H26: 87.45054 | I26: 0.175 | K26: 4.58355 | M26: 1.76846 | N26: 0.00338 | S26: =+D26-I26+N26 -> -0.17162 | T26: =+E26-J26+O26 -> 0 | U26: =+F26-K26+P26 -> -4.58355 | V26: =+G26-L26+Q26 -> 0 | W26: =+H26-M26+R26 -> 85.68208 | X26: =+SUM(S26:W26)/COUNT(S26:W26) -> 16.185382 | Y26: =+IF(X26>0,X26,X26*-1) -> 16.185382 | Z26: 72000 | AA26: =+Y26*Z26 -> 1165347.5 | AB26: =N26/S26 -> -0.019694674 | AD26: =P26/U26 -> 0 | AF26: =R26/W26 -> 0 | AG26: =+SUM(AB26:AF26)/COUNT(AB26:AF26) -> -0.0065648914 | AH26: =+IF(AG26>0,AG26,AG26*-1) -> 0.0065648914 | AI26: =IF(AA26=0,$D$56,IF(AA26<=$C$45,$D$51,IF(AA26<=$C$46,$D$52,IF(AA26<=$C$47,$D$53,IF(AA26<=$C$48,$D$54,$D$55))))) -> 40 | AJ26: =IF(AH26=0,$J$56,IF(AH26<=$I$45,$J$51,IF(AH26<=$I$46,$J$52,IF(AH26<=$I$47,$J$53,IF(AH26<=$I$48,$J$54,$J$55))))) -> 100 | AK26: =+(AI26*$AI$4)+(AJ26*$AJ$4) -> 70
A27: 23 | B27: Níquel | C27: Tonelada | D27: 37694.629 | E27: 41155.05 | F27: 38096.713 | G27: 39549.984 | H27: 35846.783 | M27: 0.025 | N27: 103.85774 | O27: 91.54601 | P27: 61.33667 | Q27: 59780.884 | R27: 69.15 | S27: =+D27-I27+N27 -> 37798.487 | T27: =+E27-J27+O27 -> 41246.596 | U27: =+F27-K27+P27 -> 38158.05 | V27: =+G27-L27+Q27 -> 99330.868 | W27: =+H27-M27+R27 -> 35915.908 | X27: =+SUM(S27:W27)/COUNT(S27:W27) -> 50489.982 | Y27: =+IF(X27>0,X27,X27*-1) -> 50489.982 | Z27: 15149 | AA27: =+Y27*Z27 -> 7.6487273e+08 | AB27: =N27/S27 -> 0.0027476692 | AC27: =O27/T27 -> 0.0022194804 | AD27: =P27/U27 -> 0.0016074372 | AE27: =Q27/V27 -> 0.60183592 | AF27: =R27/W27 -> 0.0019253307 | AG27: =+SUM(AB27:AF27)/COUNT(AB27:AF27) -> 0.12206717 | AH27: =+IF(AG27>0,AG27,AG27*-1) -> 0.12206717 | AI27: =IF(AA27=0,$D$56,IF(AA27<=$C$45,$D$51,IF(AA27<=$C$46,$D$52,IF(AA27<=$C$47,$D$53,IF(AA27<=$C$48,$D$54,$D$55))))) -> 100 | AJ27: =IF(AH27=0,$J$56,IF(AH27<=$I$45,$J$51,IF(AH27<=$I$46,$J$52,IF(AH27<=$I$47,$J$53,IF(AH27<=$I$48,$J$54,$J$55))))) -> 80 | AK27: =+(AI27*$AI$4)+(AJ27*$AJ$4) -> 90
A28: 24 | B28: Oro | C28: Tonelada | D28: 58.105994 | E28: 54.660312 | F28: 61.333425 | G28: 56.73097 | H28: 51.149151 | I28: 76.84358 | J28: 67.51044 | K28: 68.4872 | L28: 67.02076 | M28: 57.01434 | N28: 7e-05 | O28: 2e-05 | P28: 0.00041 | R28: 0.00018 | S28: =+D28-I28+N28 -> -18.737516 | T28: =+E28-J28+O28 -> -12.850108 | U28: =+F28-K28+P28 -> -7.1533651 | V28: =+G28-L28+Q28 -> -10.28979 | W28: =+H28-M28+R28 -> -5.865009 | X28: =+SUM(S28:W28)/COUNT(S28:W28) -> -10.979158 | Y28: =+IF(X28>0,X28,X28*-1) -> 10.979158 | Z28: 110430719 | AA28: =+Y28*Z28 -> 1.2124363e+09 | AB28: =N28/S28 -> -3.7358207e-06 | AC28: =O28/T28 -> -1.5564072e-06 | AD28: =P28/U28 -> -5.7315682e-05 | AE28: =Q28/V28 -> 0 | AF28: =R28/W28 -> -3.069049e-05 | AG28: =+SUM(AB28:AF28)/COUNT(AB28:AF28) -> -1.865968e-05 | AH28: =+IF(AG28>0,AG28,AG28*-1) -> 1.865968e-05 | AI28: =IF(AA28=0,$D$56,IF(AA28<=$C$45,$D$51,IF(AA28<=$C$46,$D$52,IF(AA28<=$C$47,$D$53,IF(AA28<=$C$48,$D$54,$D$55))))) -> 100 | AJ28: =IF(AH28=0,$J$56,IF(AH28<=$I$45,$J$51,IF(AH28<=$I$46,$J$52,IF(AH28<=$I$47,$J$53,IF(AH28<=$I$48,$J$54,$J$55))))) -> 100 | AK28: =+(AI28*$AI$4)+(AJ28*$AJ$4) -> 100
A29: 25 | B29: Plata | C29: Tonelada | D29: 27.631787 | E29: 37.429543 | F29: 51.757963 | G29: 57.034408 | H29: 60.35706 | I29: 6.66592 | J29: 6.48649 | K29: 9.83763 | L29: 17.67499 | M29: 16.51311 | N29: 9.62701 | O29: 4.3459 | P29: 3.22413 | Q29: 1.26586 | R29: 1.12442 | S29: =+D29-I29+N29 -> 30.592877 | T29: =+E29-J29+O29 -> 35.288953 | U29: =+F29-K29+P29 -> 45.144463 | V29: =+G29-L29+Q29 -> 40.625278 | W29: =+H29-M29+R29 -> 44.96837 | X29: =+SUM(S29:W29)/COUNT(S29:W29) -> 39.323988 | Y29: =+IF(X29>0,X29,X29*-1) -> 39.323988 | Z29: 1284101 | AA29: =+Y29*Z29 -> 50495973 | AB29: =N29/S29 -> 0.31468142 | AC29: =O29/T29 -> 0.12315185 | AD29: =P29/U29 -> 0.071418061 | AE29: =Q29/V29 -> 0.031159418 | AF29: =R29/W29 -> 0.025004687 | AG29: =+SUM(AB29:AF29)/COUNT(AB29:AF29) -> 0.11308309 | AH29: =+IF(AG29>0,AG29,AG29*-1) -> 0.11308309 | AI29: =IF(AA29=0,$D$56,IF(AA29<=$C$45,$D$51,IF(AA29<=$C$46,$D$52,IF(AA29<=$C$47,$D$53,IF(AA29<=$C$48,$D$54,$D$55))))) -> 80 | AJ29: =IF(AH29=0,$J$56,IF(AH29<=$I$45,$J$51,IF(AH29<=$I$46,$J$52,IF(AH29<=$I$47,$J$53,IF(AH29<=$I$48,$J$54,$J$55))))) -> 80 | AK29: =+(AI29*$AI$4)+(AJ29*$AJ$4) -> 80
A30: 26 | B30: Plomo | C30: Tonelada | D30: 4e-05 | E30: 3e-05 | F30: 15389.696 | G30: 638.6731 | H30: 638.31446 | N30: 1.45156 | O30: 8.34624 | P30: 3.99168 | Q30: 0.9 | S30: =+D30-I30+N30 -> 1.4516 | T30: =+E30-J30+O30 -> 8.34627 | U30: =+F30-K30+P30 -> 15393.688 | V30: =+G30-L30+Q30 -> 639.5731 | W30: =+H30-M30+R30 -> 638.31446 | X30: =+SUM(S30:W30)/COUNT(S30:W30) -> 3336.2747 | Y30: =+IF(X30>0,X30,X30*-1) -> 3336.2747 | Z30: 1970 | AA30: =+Y30*Z30 -> 6572461.2 | AB30: =N30/S30 -> 0.99997244 | AC30: =O30/T30 -> 0.99999641 | AD30: =P30/U30 -> 0.00025930628 | AE30: =Q30/V30 -> 0.0014071886 | AF30: =R30/W30 -> 0 | AG30: =+SUM(AB30:AF30)/COUNT(AB30:AF30) -> 0.40032707 | AH30: =+IF(AG30>0,AG30,AG30*-1) -> 0.40032707 | AI30: =IF(AA30=0,$D$56,IF(AA30<=$C$45,$D$51,IF(AA30<=$C$46,$D$52,IF(AA30<=$C$47,$D$53,IF(AA30<=$C$48,$D$54,$D$55))))) -> 40 | AJ30: =IF(AH30=0,$J$56,IF(AH30<=$I$45,$J$51,IF(AH30<=$I$46,$J$52,IF(AH30<=$I$47,$J$53,IF(AH30<=$I$48,$J$54,$J$55))))) -> 60 | AK30: =+(AI30*$AI$4)+(AJ30*$AJ$4) -> 50
A31: 27 | B31: Potasio | C31: Tonelada | N31: 617189.12 | O31: 420619.55 | P31: 517552.67 | Q31: 603147.3 | R31: 638617.49 | S31: =+D31-I31+N31 -> 617189.12 | T31: =+E31-J31+O31 -> 420619.55 | U31: =+F31-K31+P31 -> 517552.67 | V31: =+G31-L31+Q31 -> 603147.3 | W31: =+H31-M31+R31 -> 638617.49 | X31: =+SUM(S31:W31)/COUNT(S31:W31) -> 559425.22 | Y31: =+IF(X31>0,X31,X31*-1) -> 559425.22 | Z31: 270 | AA31: =+Y31*Z31 -> 1.5104481e+08 | AB31: =N31/S31 -> 1 | AC31: =O31/T31 -> 1 | AD31: =P31/U31 -> 1 | AE31: =Q31/V31 -> 1 | AF31: =R31/W31 -> 1 | AG31: =+SUM(AB31:AF31)/COUNT(AB31:AF31) -> 1 | AH31: =+IF(AG31>0,AG31,AG31*-1) -> 1 | AI31: =IF(AA31=0,$D$56,IF(AA31<=$C$45,$D$51,IF(AA31<=$C$46,$D$52,IF(AA31<=$C$47,$D$53,IF(AA31<=$C$48,$D$54,$D$55))))) -> 100 | AJ31: =IF(AH31=0,$J$56,IF(AH31<=$I$45,$J$51,IF(AH31<=$I$46,$J$52,IF(AH31<=$I$47,$J$53,IF(AH31<=$I$48,$J$54,$J$55))))) -> 20 | AK31: =+(AI31*$AI$4)+(AJ31*$AJ$4) -> 60
A32: 28 | B32: Roca fosfórica | C32: Tonelada | D32: 68457.36 | E32: 76422.34 | F32: 62080.65 | G32: 65107.33 | H32: 75585.13 | I32: 172.5 | J32: 170.9 | L32: 0.9 | M32: 0.3 | N32: 58157.812 | O32: 31563.043 | P32: 31063.099 | Q32: 28693.665 | R32: 29555.595 | S32: =+D32-I32+N32 -> 126442.67 | T32: =+E32-J32+O32 -> 107814.48 | U32: =+F32-K32+P32 -> 93143.749 | V32: =+G32-L32+Q32 -> 93800.095 | W32: =+H32-M32+R32 -> 105140.43 | X32: =+SUM(S32:W32)/COUNT(S32:W32) -> 105268.28 | Y32: =+IF(X32>0,X32,X32*-1) -> 105268.28 | Z32: 153 | AA32: =+Y32*Z32 -> 16106048 | AB32: =N32/S32 -> 0.45995399 | AC32: =O32/T32 -> 0.29275327 | AD32: =P32/U32 -> 0.33349634 | AE32: =Q32/V32 -> 0.3059023 | AF32: =R32/W32 -> 0.28110591 | AG32: =+SUM(AB32:AF32)/COUNT(AB32:AF32) -> 0.33464236 | AH32: =+IF(AG32>0,AG32,AG32*-1) -> 0.33464236 | AI32: =IF(AA32=0,$D$56,IF(AA32<=$C$45,$D$51,IF(AA32<=$C$46,$D$52,IF(AA32<=$C$47,$D$53,IF(AA32<=$C$48,$D$54,$D$55))))) -> 60 | AJ32: =IF(AH32=0,$J$56,IF(AH32<=$I$45,$J$51,IF(AH32<=$I$46,$J$52,IF(AH32<=$I$47,$J$53,IF(AH32<=$I$48,$J$54,$J$55))))) -> 60 | AK32: =+(AI32*$AI$4)+(AJ32*$AJ$4) -> 60
A33: 29 | B33: Sodio | C33: Tonelada | N33: 122488.19 | O33: 130257.44 | P33: 135014.45 | Q33: 133165.79 | R33: 157134.81 | S33: =+D33-I33+N33 -> 122488.19 | T33: =+E33-J33+O33 -> 130257.44 | U33: =+F33-K33+P33 -> 135014.45 | V33: =+G33-L33+Q33 -> 133165.79 | W33: =+H33-M33+R33 -> 157134.81 | X33: =+SUM(S33:W33)/COUNT(S33:W33) -> 135612.14 | Y33: =+IF(X33>0,X33,X33*-1) -> 135612.14 | Z33: 270 | AA33: =+Y33*Z33 -> 36615277 | AB33: =N33/S33 -> 1 | AC33: =O33/T33 -> 1 | AD33: =P33/U33 -> 1 | AE33: =Q33/V33 -> 1 | AF33: =R33/W33 -> 1 | AG33: =+SUM(AB33:AF33)/COUNT(AB33:AF33) -> 1 | AH33: =+IF(AG33>0,AG33,AG33*-1) -> 1 | AI33: =IF(AA33=0,$D$56,IF(AA33<=$C$45,$D$51,IF(AA33<=$C$46,$D$52,IF(AA33<=$C$47,$D$53,IF(AA33<=$C$48,$D$54,$D$55))))) -> 60 | AJ33: =IF(AH33=0,$J$56,IF(AH33<=$I$45,$J$51,IF(AH33<=$I$46,$J$52,IF(AH33<=$I$47,$J$53,IF(AH33<=$I$48,$J$54,$J$55))))) -> 20 | AK33: =+(AI33*$AI$4)+(AJ33*$AJ$4) -> 40
A34: 30 | B34: Titanio | C34: Tonelada | F34: 0.09583 | G34: 130.20952 | H34: 2.31035 | I34: 29 | J34: 286 | K34: 234.0055 | M34: 260.2 | N34: 1115.5591 | O34: 949.032 | P34: 888.26824 | Q34: 878.0818 | R34: 910.91646 | S34: =+D34-I34+N34 -> 1086.5591 | T34: =+E34-J34+O34 -> 663.032 | U34: =+F34-K34+P34 -> 654.35857 | V34: =+G34-L34+Q34 -> 1008.2913 | W34: =+H34-M34+R34 -> 653.02681 | X34: =+SUM(S34:W34)/COUNT(S34:W34) -> 813.05357 | Y34: =+IF(X34>0,X34,X34*-1) -> 813.05357 | Z34: 1450 | AA34: =+Y34*Z34 -> 1178927.7 | AB34: =N34/S34 -> 1.0266898 | AC34: =O34/T34 -> 1.4313517 | AD34: =P34/U34 -> 1.3574641 | AE34: =Q34/V34 -> 0.87086121 | AF34: =R34/W34 -> 1.3949143 | AG34: =+SUM(AB34:AF34)/COUNT(AB34:AF34) -> 1.2162562 | AH34: =+IF(AG34>0,AG34,AG34*-1) -> 1.2162562 | AI34: =IF(AA34=0,$D$56,IF(AA34<=$C$45,$D$51,IF(AA34<=$C$46,$D$52,IF(AA34<=$C$47,$D$53,IF(AA34<=$C$48,$D$54,$D$55))))) -> 40 | AJ34: =IF(AH34=0,$J$56,IF(AH34<=$I$45,$J$51,IF(AH34<=$I$46,$J$52,IF(AH34<=$I$47,$J$53,IF(AH34<=$I$48,$J$54,$J$55))))) -> 20 | AK34: =+(AI34*$AI$4)+(AJ34*$AJ$4) -> 30
A35: 31 | B35: Uranio | C35: Tonelada | S35: =+D35-I35+N35 -> 0 | T35: =+E35-J35+O35 -> 0 | U35: =+F35-K35+P35 -> 0 | V35: =+G35-L35+Q35 -> 0 | W35: =+H35-M35+R35 -> 0 | X35: =+SUM(S35:W35)/COUNT(S35:W35) -> 0 | Y35: =+IF(X35>0,X35,X35*-1) -> 0 | Z35: 158800 | AB35: - | AC35: - | AD35: - | AE35: - | AF35: - | AG35: - | AI35: =IF(AA35=0,$D$56,IF(AA35<=$C$45,$D$51,IF(AA35<=$C$46,$D$52,IF(AA35<=$C$47,$D$53,IF(AA35<=$C$48,$D$54,$D$55))))) -> 0 | AJ35: =IF(AH35=0,$J$56,IF(AH35<=$I$45,$J$51,IF(AH35<=$I$46,$J$52,IF(AH35<=$I$47,$J$53,IF(AH35<=$I$48,$J$54,$J$55))))) -> 0 | AK35: =+(AI35*$AI$4)+(AJ35*$AJ$4) -> 0
A36: 32 | B36: Wolframio (Tungsteno) | C36: Tonelada | K36: 1.15055 | N36: 1.82122 | O36: 2.20333 | P36: 0.95383 | Q36: 2.42384 | R36: 2.57102 | S36: =+D36-I36+N36 -> 1.82122 | T36: =+E36-J36+O36 -> 2.20333 | U36: =+F36-K36+P36 -> -0.19672 | V36: =+G36-L36+Q36 -> 2.42384 | W36: =+H36-M36+R36 -> 2.57102 | X36: =+SUM(S36:W36)/COUNT(S36:W36) -> 1.764538 | Y36: =+IF(X36>0,X36,X36*-1) -> 1.764538 | Z36: 42000 | AA36: =+Y36*Z36 -> 74110.596 | AB36: =N36/S36 -> 1 | AC36: =O36/T36 -> 1 | AD36: =P36/U36 -> -4.8486682 | AE36: =Q36/V36 -> 1 | AF36: =R36/W36 -> 1 | AG36: =+SUM(AB36:AF36)/COUNT(AB36:AF36) -> -0.16973363 | AH36: =+IF(AG36>0,AG36,AG36*-1) -> 0.16973363 | AI36: =IF(AA36=0,$D$56,IF(AA36<=$C$45,$D$51,IF(AA36<=$C$46,$D$52,IF(AA36<=$C$47,$D$53,IF(AA36<=$C$48,$D$54,$D$55))))) -> 20 | AJ36: =IF(AH36=0,$J$56,IF(AH36<=$I$45,$J$51,IF(AH36<=$I$46,$J$52,IF(AH36<=$I$47,$J$53,IF(AH36<=$I$48,$J$54,$J$55))))) -> 80 | AK36: =+(AI36*$AI$4)+(AJ36*$AJ$4) -> 50
A37: 33 | B37: Yeso | C37: Tonelada | D37: 408681.1 | E37: 480748.17 | F37: 389107.48 | G37: 638051.37 | H37: 509850.46 | I37: 8656.675 | J37: 10949.51 | K37: 8443.7411 | L37: 10548.972 | M37: 10100.438 | N37: 458820.87 | O37: 393252.92 | P37: 412281.01 | Q37: 280461.27 | R37: 439105.33 | S37: =+D37-I37+N37 -> 858845.29 | T37: =+E37-J37+O37 -> 863051.57 | U37: =+F37-K37+P37 -> 792944.75 | V37: =+G37-L37+Q37 -> 907963.67 | W37: =+H37-M37+R37 -> 938855.36 | X37: =+SUM(S37:W37)/COUNT(S37:W37) -> 872332.13 | Y37: =+IF(X37>0,X37,X37*-1) -> 872332.13 | Z37: 16 | AA37: =+Y37*Z37 -> 13957314 | AB37: =N37/S37 -> 0.53422994 | AC37: =O37/T37 -> 0.45565401 | AD37: =P37/U37 -> 0.51993662 | AE37: =Q37/V37 -> 0.30889041 | AF37: =R37/W37 -> 0.46770286 | AG37: =+SUM(AB37:AF37)/COUNT(AB37:AF37) -> 0.45728277 | AH37: =+IF(AG37>0,AG37,AG37*-1) -> 0.45728277 | AI37: =IF(AA37=0,$D$56,IF(AA37<=$C$45,$D$51,IF(AA37<=$C$46,$D$52,IF(AA37<=$C$47,$D$53,IF(AA37<=$C$48,$D$54,$D$55))))) -> 60 | AJ37: =IF(AH37=0,$J$56,IF(AH37<=$I$45,$J$51,IF(AH37<=$I$46,$J$52,IF(AH37<=$I$47,$J$53,IF(AH37<=$I$48,$J$54,$J$55))))) -> 60 | AK37: =+(AI37*$AI$4)+(AJ37*$AJ$4) -> 60
A38: 34 | B38: Zeolita | C38: Tonelada | S38: =+D38-I38+N38 -> 0 | T38: =+E38-J38+O38 -> 0 | U38: =+F38-K38+P38 -> 0 | V38: =+G38-L38+Q38 -> 0 | W38: =+H38-M38+R38 -> 0 | X38: =+SUM(S38:W38)/COUNT(S38:W38) -> 0 | Y38: =+IF(X38>0,X38,X38*-1) -> 0 | Z38: 175 | AA38: =+Y38*Z38 -> 0 | AI38: =IF(AA38=0,$D$56,IF(AA38<=$C$45,$D$51,IF(AA38<=$C$46,$D$52,IF(AA38<=$C$47,$D$53,IF(AA38<=$C$48,$D$54,$D$55))))) -> 0 | AJ38: =IF(AH38=0,$J$56,IF(AH38<=$I$45,$J$51,IF(AH38<=$I$46,$J$52,IF(AH38<=$I$47,$J$53,IF(AH38<=$I$48,$J$54,$J$55))))) -> 0 | AK38: =+(AI38*$AI$4)+(AJ38*$AJ$4) -> 0
A39: 35 | B39: Zinc | C39: Tonelada | E39: 36.996 | F39: 25057.452 | G39: 29516.052 | H39: 724.73302 | I39: 39.994 | J39: 914.387 | K39: 1635.645 | L39: 803.628 | M39: 651.98023 | N39: 17380.081 | O39: 15882.324 | P39: 12212.109 | Q39: 10861.305 | R39: 13623.452 | S39: =+D39-I39+N39 -> 17340.087 | T39: =+E39-J39+O39 -> 15004.933 | U39: =+F39-K39+P39 -> 35633.917 | V39: =+G39-L39+Q39 -> 39573.729 | W39: =+H39-M39+R39 -> 13696.205 | X39: =+SUM(S39:W39)/COUNT(S39:W39) -> 24249.774 | Y39: =+IF(X39>0,X39,X39*-1) -> 24249.774 | Z39: 2866 | AA39: =+Y39*Z39 -> 69499853 | AB39: =N39/S39 -> 1.0023064 | AC39: =O39/T39 -> 1.0584735 | AD39: =P39/U39 -> 0.34271027 | AE39: =Q39/V39 -> 0.27445746 | AF39: =R39/W39 -> 0.99468811 | AG39: =+SUM(AB39:AF39)/COUNT(AB39:AF39) -> 0.73452716 | AH39: =+IF(AG39>0,AG39,AG39*-1) -> 0.73452716 | AI39: =IF(AA39=0,$D$56,IF(AA39<=$C$45,$D$51,IF(AA39<=$C$46,$D$52,IF(AA39<=$C$47,$D$53,IF(AA39<=$C$48,$D$54,$D$55))))) -> 80 | AJ39: =IF(AH39=0,$J$56,IF(AH39<=$I$45,$J$51,IF(AH39<=$I$46,$J$52,IF(AH39<=$I$47,$J$53,IF(AH39<=$I$48,$J$54,$J$55))))) -> 40 | AK39: =+(AI39*$AI$4)+(AJ39*$AJ$4) -> 60
B42: Quintiles para Consumo aparente | H42: Quintiles para Dependencia importaciones
B44: Corte | C44: Valor | H44: Corte | I44: Valor
...

Sheet 2. Importancia econ y comercial
A1: Evaluación Criterio 2. Importancia económica y comercial del mineral
A2: Listado Base (Incorporando observaciones SGC) | C2: Unidad de medida | D2: Regalías | I2: Regalías % de participación | O2: Exportaciones | T2: Participación en exportaciones mineras | Z2: Diversificación exportaciones | AG2: % Reg.norm | AH2: % Expo.norm | AI2: Diversificación exportaciones.norm | AJ2: Calificación
A4: No. | B4: Minerales, elementos y materias primas | D4: 2021 | E4: 2022 | F4: 2023 | G4: 2024 | H4: 2025 | I4: 2021 | J4: 2022 | K4: 2023 | L4: 2024 | M4: 2025 | N4: Promedio | O4: 2021 | P4: 2022 | Q4: 2023 | R4: 2024 | S4: 2025 | T4: 2021 | U4: 2022 | V4: 2023 | W4: 2024 | X4: 2025 | Y4: Promedio | Z4: 2021 | AA4: 2022 | AB4: 2023 | AC4: 2024 | AD4: 2025 | AE4: Promedio | AF4: Interpretación | AG4: 0.4 | AH4: 0.4 | AI4: 0.2
A5: 1 | B5: Aluminio | C5: COP | D5: 38385888 | E5: 58404335 | F5: 3853673 | G5: 75505065 | H5: 43129492 | I5: =+D5/$D$41 -> 1.4722477e-05 | J5: =+E5/$E$41 -> 7.1863591e-06 | K5: =+F5/$F$41 -> 5.2859536e-07 | L5: =+G5/$G$41 -> 1.8167978e-05 | M5: =+H5/$H$41 -> 1.3330958e-05 | N5: =+SUM(I5:M5)/COUNT(I5:M5) -> 1.0787273e-05 | O5: 2436322.1 | P5: 2418478.1 | Q5: 3468377.9 | R5: 2827697.1 | S5: 2356397.3 | T5: =+O5/$O$41 -> 0.00025062136 | U5: =+P5/$P$41 -> 0.00014566964 | V5: =+Q5/$Q$41 -> 0.00024654594 | W5: =+R5/$R$41 -> 0.00022505794 | X5: =+S5/$S$41 -> 0.0002075104 | Y5: =+SUM(T5:X5)/COUNT(T5:X5) -> 0.00021508106 | Z5: 2287 | AA5: 2080 | AB5: 2689 | AC5: 4426 | AD5: 2454 | AE5: 2787 | AF5: Alta concentración | AG5: =IF(N5=0,$D$57,IF(N5<=$C$46,$D$52,IF(N5<=$C$47,$D$53,IF(N5<=$C$48,$D$54,IF(N5<=$C$49,$D$55,$D$56))))) -> 60 | AH5: =IF(Y5=0,$H$57,IF(Y5<=$G$46,$H$52,IF(Y5<=$G$47,$H$53,IF(Y5<=$G$48,$H$54,IF(Y5<=$G$49,$H$55,$H$56))))) -> 80 | AI5: =IF(AF5="Sin dato",$K$49,IF(AF5=$J$46,$K$46,IF(AF5=$J$47,$K$47,IF(AF5=$J$48,$K$48)))) -> 30 | AJ5: =+(AG5*$AG$4)+(AH5*$AH$4)+(AI5*$AI$4) -> 62
A6: 2 | B6: Arenas silíceas | C6: COP | D6: 151898459 | E6: 174412059 | F6: 419912528 | G6: 2.3509824e+08 | H6: 3.1207187e+08 | I6: =+D6/$D$41 -> 5.8258951e-05 | J6: =+E6/$E$41 -> 2.1460525e-05 | K6: =+F6/$F$41 -> 5.7597989e-05 | L6: =+G6/$G$41 -> 5.6569181e-05 | M6: =+H6/$H$41 -> 9.6458752e-05 | N6: =+SUM(I6:M6)/COUNT(I6:M6) -> 5.8069079e-05 | O6: 162232.09 | P6: 124385.02 | Q6: 250098.4 | R6: 172137.92 | S6: 316991.54 | T6: =+O6/$O$41 -> 1.6688609e-05 | U6: =+P6/$P$41 -> 7.4919517e-06 | V6: =+Q6/$Q$41 -> 1.7777978e-05 | W6: =+R6/$R$41 -> 1.370055e-05 | X6: =+S6/$S$41 -> 2.791509e-05 | Y6: =+SUM(T6:X6)/COUNT(T6:X6) -> 1.6714836e-05 | Z6: 3350 | AA6: 7511 | AB6: 3204 | AC6: 5407 | AD6: 2149 | AE6: 4324 | AF6: Alta concentración | AG6: =IF(N6=0,$D$57,IF(N6<=$C$46,$D$52,IF(N6<=$C$47,$D$53,IF(N6<=$C$48,$D$54,IF(N6<=$C$49,$D$55,$D$56))))) -> 60 | AH6: =IF(Y6=0,$H$57,IF(Y6<=$G$46,$H$52,IF(Y6<=$G$47,$H$53,IF(Y6<=$G$48,$H$54,IF(Y6<=$G$49,$H$55,$H$56))))) -> 60 | AI6: =IF(AF6="Sin dato",$K$49,IF(AF6=$J$46,$K$46,IF(AF6=$J$47,$K$47,IF(AF6=$J$48,$K$48)))) -> 30 | AJ6: =+(AG6*$AG$4)+(AH6*$AH$4)+(AI6*$AI$4) -> 54
A7: 3 | B7: Azufre | C7: COP | I7: =+D7/$D$41 -> 0 | J7: =+E7/$E$41 -> 0 | K7: =+F7/$F$41 -> 0 | L7: =+G7/$G$41 -> 0 | M7: =+H7/$H$41 -> 0 | N7: =+SUM(I7:M7)/COUNT(I7:M7) -> 0 | T7: =+O7/$O$41 -> 0 | U7: =+P7/$P$41 -> 0 | V7: =+Q7/$Q$41 -> 0 | W7: =+R7/$R$41 -> 0 | X7: =+S7/$S$41 -> 0 | Y7: =+SUM(T7:X7)/COUNT(T7:X7) -> 0 | Z7: 4392 | AA7: 3998 | AB7: 2750 | AC7: 3386 | AD7: 1910 | AE7: 3287 | AF7: Alta concentración | AG7: =IF(N7=0,$D$57,IF(N7<=$C$46,$D$52,IF(N7<=$C$47,$D$53,IF(N7<=$C$48,$D$54,IF(N7<=$C$49,$D$55,$D$56))))) -> 0 | AH7: =IF(Y7=0,$H$57,IF(Y7<=$G$46,$H$52,IF(Y7<=$G$47,$H$53,IF(Y7<=$G$48,$H$54,IF(Y7<=$G$49,$H$55,$H$56))))) -> 0 | AI7: =IF(AF7="Sin dato",$K$49,IF(AF7=$J$46,$K$46,IF(AF7=$J$47,$K$47,IF(AF7=$J$48,$K$48)))) -> 30 | AJ7: =+(AG7*$AG$4)+(AH7*$AH$4)+(AI7*$AI$4) -> 6
A8: 4 | B8: Baritina | C8: COP | D8: 6812655 | E8: 7455727.8 | F8: 11488622 | G8: 3715742 | I8: =+D8/$D$41 -> 2.6129174e-06 | J8: =+E8/$E$41 -> 9.1738973e-07 | K8: =+F8/$F$41 -> 1.5758556e-06 | L8: =+G8/$G$41 -> 8.9407933e-07 | M8: =+H8/$H$41 -> 0 | N8: =+SUM(I8:M8)/COUNT(I8:M8) -> 1.2000484e-06 | O8: 144091.84 | P8: 128164.43 | Q8: 10418.31 | R8: 65519.38 | S8: 95507.13 | T8: =+O8/$O$41 -> 1.4822544e-05 | U8: =+P8/$P$41 -> 7.7195929e-06 | V8: =+Q8/$Q$41 -> 7.4057445e-07 | W8: =+R8/$R$41 -> 5.2147229e-06 | X8: =+S8/$S$41 -> 8.4106035e-06 | Y8: =+SUM(T8:X8)/COUNT(T8:X8) -> 7.3816076e-06 | Z8: 10000 | AA8: 9049 | AB8: 9211 | AC8: 7248 | AD8: 9996 | AE8: 9101 | AF8: Alta concentración | AG8: =IF(N8=0,$D$57,IF(N8<=$C$46,$D$52,IF(N8<=$C$47,$D$53,IF(N8<=$C$48,$D$54,IF(N8<=$C$49,$D$55,$D$56))))) -> 40 | AH8: =IF(Y8=0,$H$57,IF(Y8<=$G$46,$H$52,IF(Y8<=$G$47,$H$53,IF(Y8<=$G$48,$H$54,IF(Y8<=$G$49,$H$55,$H$56))))) -> 60 | AI8: =IF(AF8="Sin dato",$K$49,IF(AF8=$J$46,$K$46,IF(AF8=$J$47,$K$47,IF(AF8=$J$48,$K$48)))) -> 30 | AJ8: =+(AG8*$AG$4)+(AH8*$AH$4)+(AI8*$AI$4) -> 46
A9: 5 | B9: Calizas y mármoles | C9: COP | D9: 2.0922755e+09 | E9: 2.7538002e+09 | F9: 2798435391 | G9: 2093199398 | H9: 2403987470 | I9: =+D9/$D$41 -> 0.0008024688 | J9: =+E9/$E$41 -> 0.00033884123 | K9: =+F9/$F$41 -> 0.00038385197 | L9: =+G9/$G$41 -> 0.00050366423 | M9: =+H9/$H$41 -> 0.00074305201 | N9: =+SUM(I9:M9)/COUNT(I9:M9) -> 0.00055437565 | P9: 18646.37 | Q9: 9888.04 | R9: 8135.66 | T9: =+O9/$O$41 -> 0 | U9: =+P9/$P$41 -> 1.1231071e-06 | V9: =+Q9/$Q$41 -> 7.0288077e-07 | W9: =+R9/$R$41 -> 6.4752158e-07 | X9: =+S9/$S$41 -> 0 | Y9: =+SUM(T9:X9)/COUNT(T9:X9) -> 4.947019e-07 | AA9: 9950 | AB9: 9125 | AC9: 9325 | AE9: 9467 | AF9: Alta concentración | AG9: =IF(N9=0,$D$57,IF(N9<=$C$46,$D$52,IF(N9<=$C$47,$D$53,IF(N9<=$C$48,$D$54,IF(N9<=$C$49,$D$55,$D$56))))) -> 80 | AH9: =IF(Y9=0,$H$57,IF(Y9<=$G$46,$H$52,IF(Y9<=$G$47,$H$53,IF(Y9<=$G$48,$H$54,IF(Y9<=$G$49,$H$55,$H$56))))) -> 40 | AI9: =IF(AF9="Sin dato",$K$49,IF(AF9=$J$46,$K$46,IF(AF9=$J$47,$K$47,IF(AF9=$J$48,$K$48)))) -> 30 | AJ9: =+(AG9*$AG$4)+(AH9*$AH$4)+(AI9*$AI$4) -> 54
A10: 6 | B10: Carbón | C10: COP | D10: 1.9766689e+12 | E10: 7.2493763e+12 | F10: 6.2699541e+12 | G10: 3.3596232e+12 | H10: 2.3722045e+12 | I10: =+D10/$D$41 -> 0.7581292 | J10: =+E10/$E$41 -> 0.89199922 | K10: =+F10/$F$41 -> 0.86002851 | L10: =+G10/$G$41 -> 0.80839027 | M10: =+H10/$H$41 -> 0.73322815 | N10: =+SUM(I10:M10)/COUNT(I10:M10) -> 0.81035507 | O10: 4.3804884e+09 | P10: 1.0504603e+10 | Q10: 8.0476372e+09 | R10: 6.0130659e+09 | S10: 4.0914587e+09 | T10: =+O10/$O$41 -> 0.45061527 | U10: =+P10/$P$41 -> 0.63271266 | V10: =+Q10/$Q$41 -> 0.5720577 | W10: =+R10/$R$41 -> 0.47858317 | X10: =+S10/$S$41 -> 0.36030437 | Y10: =+SUM(T10:X10)/COUNT(T10:X10) -> 0.49885463 | Z10: 1145 | AA10: 951 | AB10: 555 | AC10: 745 | AD10: 664 | AE10: 812 | AF10: Baja concentración | AG10: =IF(N10=0,$D$57,IF(N10<=$C$46,$D$52,IF(N10<=$C$47,$D$53,IF(N10<=$C$48,$D$54,IF(N10<=$C$49,$D$55,$D$56))))) -> 100 | AH10: =IF(Y10=0,$H$57,IF(Y10<=$G$46,$H$52,IF(Y10<=$G$47,$H$53,IF(Y10<=$G$48,$H$54,IF(Y10<=$G$49,$H$55,$H$56))))) -> 100 | AI10: =IF(AF10="Sin dato",$K$49,IF(AF10=$J$46,$K$46,IF(AF10=$J$47,$K$47,IF(AF10=$J$48,$K$48)))) -> 100 | AJ10: =+(AG10*$AG$4)+(AH10*$AH$4)+(AI10*$AI$4) -> 100
A11: 7 | B11: Cobre | C11: COP | D11: 2331447 | E11: 5427970474 | F11: 9533433656 | G11: 10569081293 | H11: 3978686599 | I11: =+D11/$D$41 -> 8.9420035e-07 | J11: =+E11/$E$41 -> 0.00066788441 | K11: =+F11/$F$41 -> 0.001307669 | L11: =+G11/$G$41 -> 0.0025431252 | M11: =+H11/$H$41 -> 0.0012297781 | N11: =+SUM(I11:M11)/COUNT(I11:M11) -> 0.0011498702 | O11: 91231098 | P11: 54412669 | Q11: 56478496 | R11: 86383914 | S11: 4.9938298e+08 | T11: =+O11/$O$41 -> 0.0093848269 | U11: =+P11/$P$41 -> 0.0032773809 | V11: =+Q11/$Q$41 -> 0.0040147136 | W11: =+R11/$R$41 -> 0.0068753424 | X11: =+S11/$S$41 -> 0.04397695 | Y11: =+SUM(T11:X11)/COUNT(T11:X11) -> 0.013505843 | Z11: 9999 | AA11: 10000 | AB11: 10000 | AC11: 9945 | AD11: 4014 | AE11: 8792 | AF11: Alta concentración | AG11: =IF(N11=0,$D$57,IF(N11<=$C$46,$D$52,IF(N11<=$C$47,$D$53,IF(N11<=$C$48,$D$54,IF(N11<=$C$49,$D$55,$D$56))))) -> 100 | AH11: =IF(Y11=0,$H$57,IF(Y11<=$G$46,$H$52,IF(Y11<=$G$47,$H$53,IF(Y11<=$G$48,$H$54,IF(Y11<=$G$49,$H$55,$H$56))))) -> 100 | AI11: =IF(AF11="Sin dato",$K$49,IF(AF11=$J$46,$K$46,IF(AF11=$J$47,$K$47,IF(AF11=$J$48,$K$48)))) -> 30 | AJ11: =+(AG11*$AG$4)+(AH11*$AH$4)+(AI11*$AI$4) -> 86
A12: 8 | B12: Cromo | C12: COP | E12: 1226411 | I12: =+D12/$D$41 -> 0 | J12: =+E12/$E$41 -> 1.5090369e-07 | K12: =+F12/$F$41 -> 0 | L12: =+G12/$G$41 -> 0 | M12: =+H12/$H$41 -> 0 | N12: =+SUM(I12:M12)/COUNT(I12:M12) -> 3.0180739e-08 | O12: 6422.56 | P12: 46682.5 | Q12: 4765 | R12: 1928.71 | S12: 24127.58 | T12: =+O12/$O$41 -> 6.6068057e-07 | U12: =+P12/$P$41 -> 2.8117778e-06 | V12: =+Q12/$Q$41 -> 3.3871494e-07 | W12: =+R12/$R$41 -> 1.5350707e-07 | X12: =+S12/$S$41 -> 2.1247368e-06 | Y12: =+SUM(T12:X12)/COUNT(T12:X12) -> 1.2178834e-06 | Z12: 10000 | AA12: 3530 | AB12: 4596 | AC12: 10000 | AD12: 9351 | AE12: 7496 | AF12: Alta concentración | AG12: =IF(N12=0,$D$57,IF(N12<=$C$46,$D$52,IF(N12<=$C$47,$D$53,IF(N12<=$C$48,$D$54,IF(N12<=$C$49,$D$55,$D$56))))) -> 40 | AH12: =IF(Y12=0,$H$57,IF(Y12<=$G$46,$H$52,IF(Y12<=$G$47,$H$53,IF(Y12<=$G$48,$H$54,IF(Y12<=$G$49,$H$55,$H$56))))) -> 40 | AI12: =IF(AF12="Sin dato",$K$49,IF(AF12=$J$46,$K$46,IF(AF12=$J$47,$K$47,IF(AF12=$J$48,$K$48)))) -> 30 | AJ12: =+(AG12*$AG$4)+(AH12*$AH$4)+(AI12*$AI$4) -> 38
A13: 9 | B13: Elementos de Tierras Raras (ETR) | C13: COP | I13: =+D13/$D$41 -> 0 | J13: =+E13/$E$41 -> 0 | K13: =+F13/$F$41 -> 0 | L13: =+G13/$G$41 -> 0 | M13: =+H13/$H$41 -> 0 | N13: =+SUM(I13:M13)/COUNT(I13:M13) -> 0 | O13: 28684 | P13: 6896.5 | T13: =+O13/$O$41 -> 2.9506866e-06 | U13: =+P13/$P$41 -> 4.1538961e-07 | V13: =+Q13/$Q$41 -> 0 | W13: =+R13/$R$41 -> 0 | X13: =+S13/$S$41 -> 0 | Y13: =+SUM(T13:X13)/COUNT(T13:X13) -> 6.7321523e-07 | Z13: 10000 | AA13: 6596 | AE13: 8298 | AF13: Alta concentración | AG13: =IF(N13=0,$D$57,IF(N13<=$C$46,$D$52,IF(N13<=$C$47,$D$53,IF(N13<=$C$48,$D$54,IF(N13<=$C$49,$D$55,$D$56))))) -> 0 | AH13: =IF(Y13=0,$H$57,IF(Y13<=$G$46,$H$52,IF(Y13<=$G$47,$H$53,IF(Y13<=$G$48,$H$54,IF(Y13<=$G$49,$H$55,$H$56))))) -> 40 | AI13: =IF(AF13="Sin dato",$K$49,IF(AF13=$J$46,$K$46,IF(AF13=$J$47,$K$47,IF(AF13=$J$48,$K$48)))) -> 30 | AJ13: =+(AG13*$AG$4)+(AH13*$AH$4)+(AI13*$AI$4) -> 22
A14: 10 | B14: Esmeralda | C14: COP | D14: 1.4252617e+10 | E14: 9.4350754e+09 | F14: 1.2460351e+10 | G14: 11705537756 | H14: 12236793580 | I14: =+D14/$D$41 -> 0.0054664316 | J14: =+E14/$E$41 -> 0.0011609385 | K14: =+F14/$F$41 -> 0.0017091444 | L14: =+G14/$G$41 -> 0.0028165786 | M14: =+H14/$H$41 -> 0.0037822885 | N14: =+SUM(I14:M14)/COUNT(I14:M14) -> 0.0029870763 | O14: 1.2978248e+08 | P14: 1.0402997e+08 | Q14: 1.5091894e+08 | R14: 1.3993496e+08 | S14: 1.3932511e+08 | T14: =+O14/$O$41 -> 0.013350558 | U14: =+P14/$P$41 -> 0.0062659276 | V14: =+Q14/$Q$41 -> 0.010727912 | W14: =+R14/$R$41 -> 0.011137499 | X14: =+S14/$S$41 -> 0.012269328 | Y14: =+SUM(T14:X14)/COUNT(T14:X14) -> 0.010750245 | Z14: 3043 | AA14: 2919 | AB14: 3110 | AC14: 3182 | AD14: 3048 | AE14: 3060 | AF14: Alta concentración | AG14: =IF(N14=0,$D$57,IF(N14<=$C$46,$D$52,IF(N14<=$C$47,$D$53,IF(N14<=$C$48,$D$54,IF(N14<=$C$49,$D$55,$D$56))))) -> 100 | AH14: =IF(Y14=0,$H$57,IF(Y14<=$G$46,$H$52,IF(Y14<=$G$47,$H$53,IF(Y14<=$G$48,$H$54,IF(Y14<=$G$49,$H$55,$H$56))))) -> 100 | AI14: =IF(AF14="Sin dato",$K$49,IF(AF14=$J$46,$K$46,IF(AF14=$J$47,$K$47,IF(AF14=$J$48,$K$48)))) -> 30 | AJ14: =+(AG14*$AG$4)+(AH14*$AH$4)+(AI14*$AI$4) -> 86
A15: 11 | B15: Estaño | C15: COP | G15: 772420697 | H15: 3.6037501e+08 | I15: =+D15/$D$41 -> 0 | J15: =+E15/$E$41 -> 0 | K15: =+F15/$F$41 -> 0 | L15: =+G15/$G$41 -> 0.00018585935 | M15: =+H15/$H$41 -> 0.00011138884 | N15: =+SUM(I15:M15)/COUNT(I15:M15) -> 5.9449638e-05 | O15: 472735.5 | P15: 1620805.4 | Q15: 1379015.6 | R15: 4099617.9 | S15: 853338.66 | T15: =+O15/$O$41 -> 4.8629699e-05 | U15: =+P15/$P$41 -> 9.7624263e-05 | V15: =+Q15/$Q$41 -> 9.8025854e-05 | W15: =+R15/$R$41 -> 0.00032629081 | X15: =+S15/$S$41 -> 7.5147198e-05 | Y15: =+SUM(T15:X15)/COUNT(T15:X15) -> 0.00012914356 | Z15: 6090 | AA15: 6398 | AB15: 9492 | AC15: 9904 | AD15: 4730 | AE15: 7323 | AF15: Alta concentración | AG15: =IF(N15=0,$D$57,IF(N15<=$C$46,$D$52,IF(N15<=$C$47,$D$53,IF(N15<=$C$48,$D$54,IF(N15<=$C$49,$D$55,$D$56))))) -> 80 | AH15: =IF(Y15=0,$H$57,IF(Y15<=$G$46,$H$52,IF(Y15<=$G$47,$H$53,IF(Y15<=$G$48,$H$54,IF(Y15<=$G$49,$H$55,$H$56))))) -> 80 | AI15: =IF(AF15="Sin dato",$K$49,IF(AF15=$J$46,$K$46,IF(AF15=$J$47,$K$47,IF(AF15=$J$48,$K$48)))) -> 30 | AJ15: =+(AG15*$AG$4)+(AH15*$AH$4)+(AI15*$AI$4) -> 70
A16: 12 | B16: Feldespato | C16: COP | D16: 84609666 | E16: 182535446 | F16: 142081544 | G16: 1.7440815e+08 | H16: 2.5816201e+08 | I16: =+D16/$D$41 -> 3.2451089e-05 | J16: =+E16/$E$41 -> 2.2460067e-05 | K16: =+F16/$F$41 -> 1.9488847e-05 | L16: =+G16/$G$41 -> 4.1965971e-05 | M16: =+H16/$H$41 -> 7.9795673e-05 | N16: =+SUM(I16:M16)/COUNT(I16:M16) -> 3.9232329e-05 | P16: 2417.6 | Q16: 9000 | R16: 145082.16 | S16: 360815.18 | T16: =+O16/$O$41 -> 0 | U16: =+P16/$P$41 -> 1.4561675e-07 | V16: =+Q16/$Q$41 -> 6.3975539e-07 | W16: =+R16/$R$41 -> 1.1547168e-05 | X16: =+S16/$S$41 -> 3.1774313e-05 | Y16: =+SUM(T16:X16)/COUNT(T16:X16) -> 8.8213705e-06 | AA16: 5102 | AB16: 10000 | AC16: 9878 | AD16: 10000 | AE16: 8745 | AF16: Alta concentración | AG16: =IF(N16=0,$D$57,IF(N16<=$C$46,$D$52,IF(N16<=$C$47,$D$53,IF(N16<=$C$48,$D$54,IF(N16<=$C$49,$D$55,$D$56))))) -> 60 | AH16: =IF(Y16=0,$H$57,IF(Y16<=$G$46,$H$52,IF(Y16<=$G$47,$H$53,IF(Y16<=$G$48,$H$54,IF(Y16<=$G$49,$H$55,$H$56))))) -> 60 | AI16: =IF(AF16="Sin dato",$K$49,IF(AF16=$J$46,$K$46,IF(AF16=$J$47,$K$47,IF(AF16=$J$48,$K$48)))) -> 30 | AJ16: =+(AG16*$AG$4)+(AH16*$AH$4)+(AI16*$AI$4) -> 54
A17: 13 | B17: Fluorita | C17: COP | I17: =+D17/$D$41 -> 0 | J17: =+E17/$E$41 -> 0 | K17: =+F17/$F$41 -> 0 | L17: =+G17/$G$41 -> 0 | M17: =+H17/$H$41 -> 0 | N17: =+SUM(I17:M17)/COUNT(I17:M17) -> 0 | T17: =+O17/$O$41 -> 0 | U17: =+P17/$P$41 -> 0 | V17: =+Q17/$Q$41 -> 0 | W17: =+R17/$R$41 -> 0 | X17: =+S17/$S$41 -> 0 | Y17: =+SUM(T17:X17)/COUNT(T17:X17) -> 0 | AA17: - | AB17: - | AC17: - | AD17: - | AE17: - | AF17: Sin dato | AG17: =IF(N17=0,$D$57,IF(N17<=$C$46,$D$52,IF(N17<=$C$47,$D$53,IF(N17<=$C$48,$D$54,IF(N17<=$C$49,$D$55,$D$56))))) -> 0 | AH17: =IF(Y17=0,$H$57,IF(Y17<=$G$46,$H$52,IF(Y17<=$G$47,$H$53,IF(Y17<=$G$48,$H$54,IF(Y17<=$G$49,$H$55,$H$56))))) -> 0 | AI17: =IF(AF17="Sin dato",$K$49,IF(AF17=$J$46,$K$46,IF(AF17=$J$47,$K$47,IF(AF17=$J$48,$K$48)))) -> 0 | AJ17: =+(AG17*$AG$4)+(AH17*$AH$4)+(AI17*$AI$4) -> 0
A18: 14 | B18: Grafito | C18: COP | D18: 89786 | E18: 153199 | F18: 2195918 | G18: 697683 | H18: 148164 | I18: =+D18/$D$41 -> 3.4436413e-08 | J18: =+E18/$E$41 -> 1.8850365e-08 | K18: =+F18/$F$41 -> 3.0120668e-07 | L18: =+G18/$G$41 -> 1.6787601e-07 | M18: =+H18/$H$41 -> 4.5796228e-08 | N18: =+SUM(I18:M18)/COUNT(I18:M18) -> 1.1363314e-07 | O18: 65049.99 | P18: 43767.2 | Q18: 125783.62 | R18: 50782.81 | S18: 85628.28 | T18: =+O18/$O$41 -> 6.6916096e-06 | U18: =+P18/$P$41 -> 2.6361836e-06 | V18: =+Q18/$Q$41 -> 8.9411944e-06 | W18: =+R18/$R$41 -> 4.0418313e-06 | X18: =+S18/$S$41 -> 7.5406466e-06 | Y18: =+SUM(T18:X18)/COUNT(T18:X18) -> 5.9702931e-06 | Z18: 8459 | AA18: 9465 | AB18: 4690 | AC18: 3071 | AD18: 5157 | AE18: 6168 | AF18: Alta concentración | AG18: =IF(N18=0,$D$57,IF(N18<=$C$46,$D$52,IF(N18<=$C$47,$D$53,IF(N18<=$C$48,$D$54,IF(N18<=$C$49,$D$55,$D$56))))) -> 40 | AH18: =IF(Y18=0,$H$57,IF(Y18<=$G$46,$H$52,IF(Y18<=$G$47,$H$53,IF(Y18<=$G$48,$H$54,IF(Y18<=$G$49,$H$55,$H$56))))) -> 60 | AI18: =IF(AF18="Sin dato",$K$49,IF(AF18=$J$46,$K$46,IF(AF18=$J$47,$K$47,IF(AF18=$J$48,$K$48)))) -> 30 | AJ18: =+(AG18*$AG$4)+(AH18*$AH$4)+(AI18*$AI$4) -> 46
A19: 15 | B19: Hierro | C19: COP | D19: 4178275580 | E19: 2613034842 | F19: 3825430577 | G19: 1548502235 | H19: 2241031473 | I19: =+D19/$D$41 -> 0.0016025307 | J19: =+E19/$E$41 -> 0.00032152077 | K19: =+F19/$F$41 -> 0.00052472144 | L19: =+G19/$G$41 -> 0.00037259956 | M19: =+H19/$H$41 -> 0.0006926837 | N19: =+SUM(I19:M19)/COUNT(I19:M19) -> 0.00070281124 | O19: 9416788.3 | P19: 9323379.9 | Q19: 8473353.6 | R19: 9311551.5 | S19: 7174004.6 | T19: =+O19/$O$41 -> 0.00096869302 | U19: =+P19/$P$41 -> 0.00056156531 | V19: =+Q19/$Q$41 -> 0.0006023193 | W19: =+R19/$R$41 -> 0.00074111141 | X19: =+S19/$S$41 -> 0.0006317613 | Y19: =+SUM(T19:X19)/COUNT(T19:X19) -> 0.00070109007 | Z19: 1105 | AA19: 1253 | AB19: 1297 | AC19: 1399 | AD19: 1196 | AE19: 1250 | AF19: Baja concentración | AG19: =IF(N19=0,$D$57,IF(N19<=$C$46,$D$52,IF(N19<=$C$47,$D$53,IF(N19<=$C$48,$D$54,IF(N19<=$C$49,$D$55,$D$56))))) -> 80 | AH19: =IF(Y19=0,$H$57,IF(Y19<=$G$46,$H$52,IF(Y19<=$G$47,$H$53,IF(Y19<=$G$48,$H$54,IF(Y19<=$G$49,$H$55,$H$56))))) -> 80 | AI19: =IF(AF19="Sin dato",$K$49,IF(AF19=$J$46,$K$46,IF(AF19=$J$47,$K$47,IF(AF19=$J$48,$K$48)))) -> 100 | AJ19: =+(AG19*$AG$4)+(AH19*$AH$4)+(AI19*$AI$4) -> 84
A20: 16 | B20: Litio | C20: COP | I20: =+D20/$D$41 -> 0 | J20: =+E20/$E$41 -> 0 | K20: =+F20/$F$41 -> 0 | L20: =+G20/$G$41 -> 0 | M20: =+H20/$H$41 -> 0 | N20: =+SUM(I20:M20)/COUNT(I20:M20) -> 0 | T20: =+O20/$O$41 -> 0 | U20: =+P20/$P$41 -> 0 | V20: =+Q20/$Q$41 -> 0 | W20: =+R20/$R$41 -> 0 | X20: =+S20/$S$41 -> 0 | Y20: =+SUM(T20:X20)/COUNT(T20:X20) -> 0 | Z20: - | AA20: - | AB20: - | AC20: - | AD20: - | AE20: - | AF20: Sin dato | AG20: =IF(N20=0,$D$57,IF(N20<=$C$46,$D$52,IF(N20<=$C$47,$D$53,IF(N20<=$C$48,$D$54,IF(N20<=$C$49,$D$55,$D$56))))) -> 0 | AH20: =IF(Y20=0,$H$57,IF(Y20<=$G$46,$H$52,IF(Y20<=$G$47,$H$53,IF(Y20<=$G$48,$H$54,IF(Y20<=$G$49,$H$55,$H$56))))) -> 0 | AI20: =IF(AF20="Sin dato",$K$49,IF(AF20=$J$46,$K$46,IF(AF20=$J$47,$K$47,IF(AF20=$J$48,$K$48)))) -> 0 | AJ20: =+(AG20*$AG$4)+(AH20*$AH$4)+(AI20*$AI$4) -> 0
A21: 17 | B21: Magnesio | C21: COP | D21: 29320594 | E21: 28746110 | F21: 32494451 | G21: 17046339 | H21: 3547690 | I21: =+D21/$D$41 -> 1.1245585e-05 | J21: =+E21/$E$41 -> 3.537064e-06 | K21: =+F21/$F$41 -> 4.4571545e-06 | L21: =+G21/$G$41 -> 4.1016786e-06 | M21: =+H21/$H$41 -> 1.0965607e-06 | N21: =+SUM(I21:M21)/COUNT(I21:M21) -> 4.8876086e-06 | O21: 133001.28 | P21: 180078.9 | Q21: 474023.42 | R21: 45696.73 | S21: 100324.82 | T21: =+O21/$O$41 -> 1.3681672e-05 | U21: =+P21/$P$41 -> 1.0846502e-05 | V21: =+Q21/$Q$41 -> 3.3695449e-05 | W21: =+R21/$R$41 -> 3.6370274e-06 | X21: =+S21/$S$41 -> 8.8348617e-06 | Y21: =+SUM(T21:X21)/COUNT(T21:X21) -> 1.4139103e-05 | Z21: 3365 | AA21: 4802 | AB21: 8444 | AC21: 4000 | AD21: 2765 | AE21: 4675 | AF21: Alta concentración | AG21: =IF(N21=0,$D$57,IF(N21<=$C$46,$D$52,IF(N21<=$C$47,$D$53,IF(N21<=$C$48,$D$54,IF(N21<=$C$49,$D$55,$D$56))))) -> 60 | AH21: =IF(Y21=0,$H$57,IF(Y21<=$G$46,$H$52,IF(Y21<=$G$47,$H$53,IF(Y21<=$G$48,$H$54,IF(Y21<=$G$49,$H$55,$H$56))))) -> 60 | AI21: =IF(AF21="Sin dato",$K$49,IF(AF21=$J$46,$K$46,IF(AF21=$J$47,$K$47,IF(AF21=$J$48,$K$48)))) -> 30 | AJ21: =+(AG21*$AG$4)+(AH21*$AH$4)+(AI21*$AI$4) -> 54
A22: 18 | B22: Manganeso | C22: COP | D22: 11660486 | E22: 6568132 | F22: 8592575 | G22: 16343075 | H22: 7094210 | I22: =+D22/$D$41 -> 4.4722487e-06 | J22: =+E22/$E$41 -> 8.0817554e-07 | K22: =+F22/$F$41 -> 1.1786146e-06 | L22: =+G22/$G$41 -> 3.9324597e-06 | M22: =+H22/$H$41 -> 2.1927598e-06 | N22: =+SUM(I22:M22)/COUNT(I22:M22) -> 2.5168516e-06 | T22: =+O22/$O$41 -> 0 | U22: =+P22/$P$41 -> 0 | V22: =+Q22/$Q$41 -> 0 | W22: =+R22/$R$41 -> 0 | X22: =+S22/$S$41 -> 0 | Y22: =+SUM(T22:X22)/COUNT(T22:X22) -> 0 | Z22: - | AA22: - | AB22: - | AC22: - | AD22: - | AE22: - | AF22: Sin dato | AG22: =IF(N22=0,$D$57,IF(N22<=$C$46,$D$52,IF(N22<=$C$47,$D$53,IF(N22<=$C$48,$D$54,IF(N22<=$C$49,$D$55,$D$56))))) -> 60 | AH22: =IF(Y22=0,$H$57,IF(Y22<=$G$46,$H$52,IF(Y22<=$G$47,$H$53,IF(Y22<=$G$48,$H$54,IF(Y22<=$G$49,$H$55,$H$56))))) -> 0 | AI22: =IF(AF22="Sin dato",$K$49,IF(AF22=$J$46,$K$46,IF(AF22=$J$47,$K$47,IF(AF22=$J$48,$K$48)))) -> 0 | AJ22: =+(AG22*$AG$4)+(AH22*$AH$4)+(AI22*$AI$4) -> 24
A23: 19 | B23: Materiales de Construcción | C23: COP | D23: 6.0470052e+09 | E23: 7.1122509e+09 | F23: 8.1929559e+09 | G23: 5.8163018e+09 | H23: 6.8000317e+09 | I23: =+D23/$D$41 -> 0.002319261 | J23: =+E23/$E$41 -> 0.00087512663 | K23: =+F23/$F$41 -> 0.0011238002 | L23: =+G23/$G$41 -> 0.0013995146 | M23: =+H23/$H$41 -> 0.0021018317 | N23: =+SUM(I23:M23)/COUNT(I23:M23) -> 0.0015639068 | O23: 19853876 | P23: 15677656 | Q23: 17379030 | R23: 17197541 | S23: 11589330 | T23: =+O23/$O$41 -> 0.0020423429 | U23: =+P23/$P$41 -> 0.00094429572 | V23: =+Q23/$Q$41 -> 0.0012353698 | W23: =+R23/$R$41 -> 0.0013687616 | X23: =+S23/$S$41 -> 0.0010205862 | Y23: =+SUM(T23:X23)/COUNT(T23:X23) -> 0.0013222712 | Z23: 4520 | AA23: 1798 | AB23: 1474 | AC23: 2054 | AD23: 1050 | AE23: 2179 | AF23: Concentración moderada | AG23: =IF(N23=0,$D$57,IF(N23<=$C$46,$D$52,IF(N23<=$C$47,$D$53,IF(N23<=$C$48,$D$54,IF(N23<=$C$49,$D$55,$D$56))))) -> 100 | AH23: =IF(Y23=0,$H$57,IF(Y23<=$G$46,$H$52,IF(Y23<=$G$47,$H$53,IF(Y23<=$G$48,$H$54,IF(Y23<=$G$49,$H$55,$H$56))))) -> 100 | AI23: =IF(AF23="Sin dato",$K$49,IF(AF23=$J$46,$K$46,IF(AF23=$J$47,$K$47,IF(AF23=$J$48,$K$48)))) -> 60 | AJ23: =+(AG23*$AG$4)+(AH23*$AH$4)+(AI23*$AI$4) -> 92
A24: 20 | B24: Metales del Grupo del Platino (MGP) | C24: COP | D24: 3.2053474e+09 | E24: 3.0363506e+09 | F24: 4.8405034e+09 | G24: 4.2838949e+09 | H24: 6.7589839e+09 | I24: =+D24/$D$41 -> 0.0012293751 | J24: =+E24/$E$41 -> 0.00037360764 | K24: =+F24/$F$41 -> 0.00066395556 | L24: =+G24/$G$41 -> 0.0010307879 | M24: =+H24/$H$41 -> 0.0020891442 | N24: =+SUM(I24:M24)/COUNT(I24:M24) -> 0.0010773741 | O24: 21121454 | P24: 22516455 | Q24: 25815041 | R24: 27850219 | S24: 45092357 | T24: =+O24/$O$41 -> 0.0021727371 | U24: =+P24/$P$41 -> 0.0013562099 | V24: =+Q24/$Q$41 -> 0.0018350346 | W24: =+R24/$R$41 -> 0.002216614 | X24: =+S24/$S$41 -> 0.0039709489 | Y24: =+SUM(T24:X24)/COUNT(T24:X24) -> 0.0023103089 | Z24: 7905 | AA24: 5323 | AB24: 2536 | AC24: 2890 | AD24: 4092 | AE24: 4549 | AF24: Alta concentración | AG24: =IF(N24=0,$D$57,IF(N24<=$C$46,$D$52,IF(N24<=$C$47,$D$53,IF(N24<=$C$48,$D$54,IF(N24<=$C$49,$D$55,$D$56))))) -> 80 | AH24: =IF(Y24=0,$H$57,IF(Y24<=$G$46,$H$52,IF(Y24<=$G$47,$H$53,IF(Y24<=$G$48,$H$54,IF(Y24<=$G$49,$H$55,$H$56))))) -> 100 | AI24: =IF(AF24="Sin dato",$K$49,IF(AF24=$J$46,$K$46,IF(AF24=$J$47,$K$47,IF(AF24=$J$48,$K$48)))) -> 30 | AJ24: =+(AG24*$AG$4)+(AH24*$AH$4)+(AI24*$AI$4) -> 78
A25: 21 | B25: Molibdeno | C25: COP | I25: =+D25/$D$41 -> 0 | J25: =+E25/$E$41 -> 0 | K25: =+F25/$F$41 -> 0 | L25: =+G25/$G$41 -> 0 | M25: =+H25/$H$41 -> 0 | N25: =+SUM(I25:M25)/COUNT(I25:M25) -> 0 | T25: =+O25/$O$41 -> 0 | U25: =+P25/$P$41 -> 0 | V25: =+Q25/$Q$41 -> 0 | W25: =+R25/$R$41 -> 0 | X25: =+S25/$S$41 -> 0 | Y25: =+SUM(T25:X25)/COUNT(T25:X25) -> 0 | Z25: - | AA25: - | AB25: - | AC25: - | AD25: - | AE25: - | AF25: Sin dato | AG25: =IF(N25=0,$D$57,IF(N25<=$C$46,$D$52,IF(N25<=$C$47,$D$53,IF(N25<=$C$48,$D$54,IF(N25<=$C$49,$D$55,$D$56))))) -> 0 | AH25: =IF(Y25=0,$H$57,IF(Y25<=$G$46,$H$52,IF(Y25<=$G$47,$H$53,IF(Y25<=$G$48,$H$54,IF(Y25<=$G$49,$H$55,$H$56))))) -> 0 | AI25: =IF(AF25="Sin dato",$K$49,IF(AF25=$J$46,$K$46,IF(AF25=$J$47,$K$47,IF(AF25=$J$48,$K$48)))) -> 0 | AJ25: =+(AG25*$AG$4)+(AH25*$AH$4)+(AI25*$AI$4) -> 0
